BEGIN:VCALENDAR
VERSION:2.0
PRODID:-// - ECPv6.15.14//NONSGML v1.0//EN
CALSCALE:GREGORIAN
METHOD:PUBLISH
X-ORIGINAL-URL:https://descubrelosrios.cl
X-WR-CALDESC:Eventos para 
REFRESH-INTERVAL;VALUE=DURATION:PT1H
X-Robots-Tag:noindex
X-PUBLISHED-TTL:PT1H
BEGIN:VTIMEZONE
TZID:UTC
BEGIN:STANDARD
TZOFFSETFROM:+0000
TZOFFSETTO:+0000
TZNAME:UTC
DTSTART:20250101T000000
END:STANDARD
END:VTIMEZONE
BEGIN:VEVENT
DTSTART;VALUE=DATE:20260825
DTEND;VALUE=DATE:20261101
DTSTAMP:20260420T032927
CREATED:20260212T204118Z
LAST-MODIFIED:20260212T204125Z
UID:9209-1787616000-1793491199@descubrelosrios.cl
SUMMARY:Juegos de la Araucanía
DESCRIPTION:Los Juegos de la Araucanía constituyen el principal encuentro deportivo binacional entre las regiones patagónicas de Chile y Argentina. Con más de tres décadas de trayectoria\, este evento fomenta la integración y el desarrollo juvenil a través de disciplinas como atletismo\, natación\, fútbol\, básquetbol\, vóleibol y judo. La competencia se ha consolidado como un espacio de intercambio cultural y deportivo\, fortaleciendo la cooperación entre ambos países y proyectando a nuevas generaciones de atletas.
URL:https://descubrelosrios.cl/event/juegos-de-la-araucania/
LOCATION:Complejo Arauco\, Valdivia\, Chile
CATEGORIES:Evento Deportivo
ATTACH;FMTTYPE=image/png:https://descubrelosrios.cl/wp-content/uploads/2026/02/Captura-de-pantalla-2026-02-12-174018.png
END:VEVENT
BEGIN:VEVENT
DTSTART;VALUE=DATE:20261012
DTEND;VALUE=DATE:20261019
DTSTAMP:20260420T032927
CREATED:20260209T203246Z
LAST-MODIFIED:20260209T203246Z
UID:9195-1791763200-1792367999@descubrelosrios.cl
SUMMARY:33° FESTIVAL INTERNACIONAL DE CINE DE VALDIVIA
DESCRIPTION:Es uno de los festivales de cine más relevantes de Chile y Latinoamérica\, enfocado en cine de autor\, independiente y de vanguardia\, mostrando una amplia programación de largometrajes\, cortometrajes\, documentales\, animación y cine experimental\, tanto nacional como internacional. Además ofrece actividades paralelas\, encuentros y espacios de industria.
URL:https://descubrelosrios.cl/event/33-festival-internacional-de-cine-de-valdivia/
LOCATION:Varios Lugares\, Valdivia\, Valdivia\, Chile
ATTACH;FMTTYPE=image/png:https://descubrelosrios.cl/wp-content/uploads/2026/02/Sin-titulo-5-x-3-cm-51.png
END:VEVENT
BEGIN:VEVENT
DTSTART;VALUE=DATE:20261017
DTEND;VALUE=DATE:20261019
DTSTAMP:20260420T032927
CREATED:20260121T193924Z
LAST-MODIFIED:20260121T193929Z
UID:8838-1792195200-1792367999@descubrelosrios.cl
SUMMARY:Huellelhue Trail Challenge 2da Versión
DESCRIPTION:La segunda versión del Huellelhue Trail Challenge vibra con la energía de corredores y amantes de la naturaleza que se enfrentan a un recorrido desafiante y lleno de paisajes únicos. Más que una competencia\, es una experiencia que celebra la vida sana\, el turismo local y el espíritu de superación\, consolidándose como un referente deportivo y comunitario en la región.
URL:https://descubrelosrios.cl/event/huellelhue-trail-challenge-2da-version/
LOCATION:H Mercado – Fundo Buena Ventura\,\, Huellelhue\, Valdivia\, Chile
CATEGORIES:Evento Deportivo
ATTACH;FMTTYPE=image/png:https://descubrelosrios.cl/wp-content/uploads/2026/01/Captura-de-pantalla-2026-01-21-163802.png
END:VEVENT
BEGIN:VEVENT
DTSTART;VALUE=DATE:20261021
DTEND;VALUE=DATE:20261025
DTSTAMP:20260420T032927
CREATED:20260223T183631Z
LAST-MODIFIED:20260223T183631Z
UID:9268-1792540800-1792886399@descubrelosrios.cl
SUMMARY:CONGRESO  SOCIEDAD CHILENA DE UROLOGIA
DESCRIPTION:Este año\, el Congreso anual de la Sociedad Chilena de Urologia ( SCHU) se celebrará en la ciudad de Valdivia\, del 21 al 24 de octubre de 2026. Este importante encuentro incluirá actividades académicas con conferencias\, simposios\, talleres y sesiones científicas\, dirigidos a urólogos y profesionales de la salud.
URL:https://descubrelosrios.cl/event/congreso-sociedad-chilena-de-urologia/
LOCATION:Hotel Dreams Valdivia
CATEGORIES:Congreso
ATTACH;FMTTYPE=image/png:https://descubrelosrios.cl/wp-content/uploads/2026/02/Sin-titulo-5-x-3-cm-58.png
END:VEVENT
BEGIN:VEVENT
DTSTART;VALUE=DATE:20261022
DTEND;VALUE=DATE:20261025
DTSTAMP:20260420T032927
CREATED:20260223T185302Z
LAST-MODIFIED:20260223T185302Z
UID:9274-1792627200-1792886399@descubrelosrios.cl
SUMMARY:III CONGRESO SOCHIFO
DESCRIPTION:Este congreso tiende a ser una instancia académico-científica en la que profesionales\, docentes\, estudiantes e investigadores de fonoaudiología presentan trabajos\, participan en talleres y mesas temáticas\, y comparten avances de investigación y prácticas clínicas relevantes en el país. Esto se basa en el perfil de ediciones previas del congreso de la sociedad.
URL:https://descubrelosrios.cl/event/iii-congreso-sochifo/
LOCATION:Universidad San Sebastián\, sede Valdivia\, General Lagos 1163\, Valdivia\, Valdivia\, Chile
ATTACH;FMTTYPE=image/png:https://descubrelosrios.cl/wp-content/uploads/2026/02/Sin-titulo-5-x-3-cm-59.png
END:VEVENT
BEGIN:VEVENT
DTSTART;VALUE=DATE:20261029
DTEND;VALUE=DATE:20261102
DTSTAMP:20260420T032927
CREATED:20260211T162648Z
LAST-MODIFIED:20260211T162654Z
UID:9204-1793232000-1793577599@descubrelosrios.cl
SUMMARY:Sabores y Sensaciones del Ranco 2026
DESCRIPTION:La feria Sabores y Sensaciones del Ranco se ha consolidado como el principal encuentro gastronómico y cultural de la Cuenca del Lago Ranco. Realizada en Futrono\, reúne a productores\, artesanos y emprendedores locales en un espacio que celebra la identidad regional a través de la cocina\, la música y las tradiciones. Con más de una década de trayectoria\, el evento destaca por su aporte al turismo y al fortalecimiento del patrimonio cultural\, convirtiéndose en una vitrina de sabores auténticos y experiencias únicas para visitantes nacionales e internacionales.
URL:https://descubrelosrios.cl/event/sabores-y-sensaciones-del-ranco-2026/
LOCATION:Complejo Turístico Bahía Coique\, Futrono\, Del Ranco\, Chile
CATEGORIES:Feria
ATTACH;FMTTYPE=image/png:https://descubrelosrios.cl/wp-content/uploads/2026/02/Captura-de-pantalla-2026-02-11-132501.png
END:VEVENT
END:VCALENDAR