BEGIN:VCALENDAR
VERSION:2.0
PRODID:-// - ECPv6.15.14//NONSGML v1.0//EN
CALSCALE:GREGORIAN
METHOD:PUBLISH
X-ORIGINAL-URL:https://descubrelosrios.cl
X-WR-CALDESC:Eventos para 
REFRESH-INTERVAL;VALUE=DURATION:PT1H
X-Robots-Tag:noindex
X-PUBLISHED-TTL:PT1H
BEGIN:VTIMEZONE
TZID:UTC
BEGIN:STANDARD
TZOFFSETFROM:+0000
TZOFFSETTO:+0000
TZNAME:UTC
DTSTART:20250101T000000
END:STANDARD
END:VTIMEZONE
BEGIN:VEVENT
DTSTART;VALUE=DATE:20260702
DTEND;VALUE=DATE:20260708
DTSTAMP:20260419T233020
CREATED:20260106T021814Z
LAST-MODIFIED:20260108T150609Z
UID:7920-1782950400-1783468799@descubrelosrios.cl
SUMMARY:Festival lluvia de teatro
DESCRIPTION:Cada invierno\, Valdivia se convierte en escenario de emociones y creatividad con el Festival Lluvia de Teatro\, donde compañías nacionales presentan obras que van desde la comedia hasta el teatro documental. Bajo el lema “al mal tiempo… buen teatro”\, el certamen transforma la lluvia en cultura y consolida a la ciudad como capital de las artes escénicas del sur de Chile.
URL:https://descubrelosrios.cl/event/festival-lluvia-de-teatro/
LOCATION:Teatro Regional Cervantes\, Chacabuco 210\, VALDIVIA\, Programado\, Chile
CATEGORIES:Eventos,Festival
ATTACH;FMTTYPE=image/png:https://descubrelosrios.cl/wp-content/uploads/2026/01/Sin-titulo-5-x-3-cm-17.png
END:VEVENT
BEGIN:VEVENT
DTSTART;VALUE=DATE:20260704
DTEND;VALUE=DATE:20260706
DTSTAMP:20260419T233020
CREATED:20260227T194410Z
LAST-MODIFIED:20260227T194410Z
UID:9323-1783123200-1783295999@descubrelosrios.cl
SUMMARY:IV VERSIÓN FESTIVAL DEL TEJIDO " LLUVIA Y LANA"
DESCRIPTION:La IV versión del Festival del Tejido “Lluvia y Lana” es un encuentro dedicado al tejido\, la lana y las fibras naturales que se realiza en Valdivia. \nEste certámen reúne a expositores de hilados\, accesorios y diseño textil\, además de ofrecer talleres y actividades para la comunidad tejeril.
URL:https://descubrelosrios.cl/event/iv-version-festival-del-tejido-lluvia-y-lana/
LOCATION:Hotel Puerta del Sur\, Los Lingues 950\, Valdivia\, Valdivia\, Chile
CATEGORIES:Festival
ATTACH;FMTTYPE=image/png:https://descubrelosrios.cl/wp-content/uploads/2026/02/Sin-titulo-5-x-3-cm-65.png
END:VEVENT
BEGIN:VEVENT
DTSTART;VALUE=DATE:20260731
DTEND;VALUE=DATE:20260803
DTSTAMP:20260419T233020
CREATED:20260106T003141Z
LAST-MODIFIED:20260108T150309Z
UID:7904-1785456000-1785715199@descubrelosrios.cl
SUMMARY:Fiesta de la sopa
DESCRIPTION:La Fiesta de la Sopa 2026 en Valdivia se desarrolla en el Parque Saval y reúne a familias\, turistas y productores gastronómicos. Cerca de 30 expositores ofrecen sopas tradicionales y creativas\, mientras la música en vivo y las actividades culturales acompañan la jornada. El evento fortalece la identidad culinaria de Los Ríos y posiciona a Valdivia como referente nacional en gastronomía y turismo invernal.
URL:https://descubrelosrios.cl/event/fiesta-de-la-sopa/
LOCATION:Centro de Ferias Parque Saval\, Parque Saval 1\, VALDIVIA\, Chile
CATEGORIES:Eventos
ATTACH;FMTTYPE=image/png:https://descubrelosrios.cl/wp-content/uploads/2026/01/Sin-titulo-5-x-3-cm-16.png
END:VEVENT
END:VCALENDAR