BEGIN:VCALENDAR
VERSION:2.0
PRODID:-// - ECPv6.15.14//NONSGML v1.0//EN
CALSCALE:GREGORIAN
METHOD:PUBLISH
X-ORIGINAL-URL:https://descubrelosrios.cl
X-WR-CALDESC:Eventos para 
REFRESH-INTERVAL;VALUE=DURATION:PT1H
X-Robots-Tag:noindex
X-PUBLISHED-TTL:PT1H
BEGIN:VTIMEZONE
TZID:UTC
BEGIN:STANDARD
TZOFFSETFROM:+0000
TZOFFSETTO:+0000
TZNAME:UTC
DTSTART:20250101T000000
END:STANDARD
END:VTIMEZONE
BEGIN:VEVENT
DTSTART;VALUE=DATE:20260131
DTEND;VALUE=DATE:20260202
DTSTAMP:20260420T053744
CREATED:20260116T170409Z
LAST-MODIFIED:20260116T170413Z
UID:8581-1769817600-1769990399@descubrelosrios.cl
SUMMARY:Fiesta locos por el Asado Mariquina
DESCRIPTION:La Fiesta “Locos por el Asado” en Mariquina es una celebración que reúne a vecinos y visitantes en torno a la tradición del buen asado. Con música\, sabores locales y un ambiente familiar lleno de alegría\, este encuentro se ha convertido en un espacio de convivencia y disfrute que refleja la identidad y hospitalidad de la comuna.
URL:https://descubrelosrios.cl/event/fiesta-locos-por-el-asado-mariquina/
LOCATION:Frente la Escuela de Tringlo\, Mariquina\, Chile
CATEGORIES:Eventos
ATTACH;FMTTYPE=image/png:https://descubrelosrios.cl/wp-content/uploads/2026/01/Captura-de-pantalla-2026-01-16-140312.png
END:VEVENT
BEGIN:VEVENT
DTSTART;VALUE=DATE:20260131
DTEND;VALUE=DATE:20260202
DTSTAMP:20260420T053744
CREATED:20260115T163618Z
LAST-MODIFIED:20260115T163618Z
UID:8502-1769817600-1769990399@descubrelosrios.cl
SUMMARY:Tercera Feria Costumbrista y Gastronómica del Club Deportivo Colo Colo de Lumaco.
DESCRIPTION:En el marco de las actividades costumbristas de la comuna de Lanco\,se desarrollará la tercera versión de este certamen\, ofreciendo comida típica\, artesanía\, shows y rescate de tradiciones en un evento que fomenta el turismo local y la cultura rural. 
URL:https://descubrelosrios.cl/event/tercera-feria-costumbrista-y-gastronomica-del-club-deportivo-colo-colo-de-lumaco/
LOCATION:sector Lumaco\, Lanco\, Chile
ATTACH;FMTTYPE=image/png:https://descubrelosrios.cl/wp-content/uploads/2026/01/LUMACO.png
END:VEVENT
BEGIN:VEVENT
DTSTART;VALUE=DATE:20260131
DTEND;VALUE=DATE:20260201
DTSTAMP:20260420T053744
CREATED:20260120T203706Z
LAST-MODIFIED:20260120T203706Z
UID:8792-1769817600-1769903999@descubrelosrios.cl
SUMMARY:ANIVERSARIO DE REUMEN
DESCRIPTION:El aniversario de Reumén\, localidad clave para el origen de la comuna de Paillaco\, celebra  sus 128 años este 2026\, con festejos que incluyen actividades culturales\, deportivas y cívicas\, apoyadas por la Municipalidad de Paillaco y la propia comunidad para resaltar su patrimonio histórico como cuna de la comuna
URL:https://descubrelosrios.cl/event/aniversario-de-reumen/
LOCATION:Plaza de Reumen\, Reumen\, Paillaco\, Valdivia\, Chile
ATTACH;FMTTYPE=image/png:https://descubrelosrios.cl/wp-content/uploads/2026/01/Sin-titulo-5-x-3-cm-22.png
END:VEVENT
BEGIN:VEVENT
DTSTART;VALUE=DATE:20260131
DTEND;VALUE=DATE:20260201
DTSTAMP:20260420T053744
CREATED:20260120T200239Z
LAST-MODIFIED:20260120T200301Z
UID:8767-1769817600-1769903999@descubrelosrios.cl
SUMMARY:2° OPEN INTERNACIONAL DE TENIS DE MESA VERANO EN VALDIVIA
DESCRIPTION:El 2° Open Internacional de Tenis de Mesa – Verano en Valdivia se constituye como una instancia deportiva de carácter internacional\, que reúne a destacados exponentes de la disciplina en un ambiente competitivo y de integración. El torneo busca promover el tenis de mesa como deporte formativo y de alto rendimiento\, fortaleciendo su práctica en la comunidad local y proyectando a Valdivia como sede de eventos deportivos de calidad. \nLa actividad representa un espacio de intercambio cultural y deportivo\, fomentando valores de disciplina\, respeto y excelencia\, y contribuyendo al posicionamiento de la ciudad como referente en la organización de competencias internacionales.
URL:https://descubrelosrios.cl/event/2-open-internacional-de-tenis-de-mesa-verano-en-valdivia/
LOCATION:Coliseo Municipal\, Pedro Montt esquina Errázuriz\, Valdivia\, Valdivia\, Chile
CATEGORIES:Evento Deportivo
ATTACH;FMTTYPE=image/png:https://descubrelosrios.cl/wp-content/uploads/2026/01/Captura-de-pantalla-2026-01-20-170122.png
END:VEVENT
BEGIN:VEVENT
DTSTART;VALUE=DATE:20260131
DTEND;VALUE=DATE:20260201
DTSTAMP:20260420T053744
CREATED:20260120T192940Z
LAST-MODIFIED:20260120T193046Z
UID:8757-1769817600-1769903999@descubrelosrios.cl
SUMMARY:SALIDA EN KAYAK INCLUSIVA
DESCRIPTION:La Salida en Kayak Inclusiva se constituye como una actividad recreativa y deportiva orientada a garantizar la participación de personas de todas las edades y condiciones\, promoviendo la integración y el acceso universal al turismo activo. En un entorno natural privilegiado\, la iniciativa fomenta la práctica segura del kayak\, destacando valores de respeto\, equidad y compañerismo. \nEste encuentro refuerza la importancia de la accesibilidad en las actividades al aire libre\, consolidando al turismo inclusivo como una herramienta de desarrollo social y comunitario.
URL:https://descubrelosrios.cl/event/salida-en-kayak-inclusiva/
LOCATION:Travesía 3 puentes\, Valdivia\, Chile
CATEGORIES:Evento Deportivo
ATTACH;FMTTYPE=image/png:https://descubrelosrios.cl/wp-content/uploads/2026/01/Captura-de-pantalla-2026-01-20-162828.png
END:VEVENT
BEGIN:VEVENT
DTSTART;VALUE=DATE:20260131
DTEND;VALUE=DATE:20260201
DTSTAMP:20260420T053744
CREATED:20260120T191751Z
LAST-MODIFIED:20260120T191757Z
UID:8745-1769817600-1769903999@descubrelosrios.cl
SUMMARY:Encuentros amistosos de fútbol infantil y Clínica de futbol "Leyendas fútbol"
DESCRIPTION:Los Encuentros Amistosos de Fútbol Infantil y la Clínica de Fútbol “Leyendas del Fútbol” constituyen una instancia deportiva y formativa que reúne a niños y niñas en torno al fútbol\, promoviendo la integración\, el trabajo en equipo y la sana competencia. La clínica\, dirigida por reconocidos exjugadores\, entrega conocimientos técnicos y experiencias inspiradoras\, fortaleciendo el desarrollo de futuros talentos y consolidando valores como disciplina\, respeto y amistad. \nEste evento se proyecta como un espacio inclusivo y enriquecedor\, que impulsa tanto la práctica deportiva como la formación integral de la infancia\, contribuyendo al fortalecimiento de la comunidad y al fomento del deporte regional.
URL:https://descubrelosrios.cl/event/encuentros-amistosos-de-futbol-infantil-y-clinica-de-futbol-leyendas-futbol/
LOCATION:Estadio Felix Gallardo\, Alonso de Ercilla 690\, VALDIVIA\,\, Chile
CATEGORIES:Evento Deportivo
ATTACH;FMTTYPE=image/png:https://descubrelosrios.cl/wp-content/uploads/2026/01/Captura-de-pantalla-2026-01-20-161656.png
END:VEVENT
BEGIN:VEVENT
DTSTART;TZID=UTC:20260130T180000
DTEND;TZID=UTC:20260130T213000
DTSTAMP:20260420T053744
CREATED:20260107T142904Z
LAST-MODIFIED:20260107T181427Z
UID:8039-1769796000-1769808600@descubrelosrios.cl
SUMMARY:Pasarela RFD LOS RÍOS 2026
DESCRIPTION:La Pasarela RFD Los Ríos 2026 trasciende la idea de un simple desfile: representa la culminación de un proceso de aprendizaje\, experimentación y co-creación que\, durante meses\, ha reunido a talento regional del diseño\, la artesanía y la innovación. \n\n\n  \n\n\n\n\n\n\n\n\n\n\nVer esta publicación en Instagram\n\n\n\n\n\n\n\n\n\n\n\n\n\n\n\n\n\n\n\n\n\n\n  \nUna publicación compartida por RFD®️ (@runwayfashiondesign)
URL:https://descubrelosrios.cl/event/pasarela-rfd-los-rios-2026/
LOCATION:AERODROMO LAS MARÍAS\, Valdivia\, Valdivia\, Chile
CATEGORIES:Eventos
ATTACH;FMTTYPE=image/png:https://descubrelosrios.cl/wp-content/uploads/2026/01/Sin-titulo-5-x-3-cm-8.png
END:VEVENT
BEGIN:VEVENT
DTSTART;TZID=UTC:20260130T003000
DTEND;TZID=UTC:20260130T143000
DTSTAMP:20260420T053744
CREATED:20260115T192138Z
LAST-MODIFIED:20260115T192229Z
UID:8530-1769733000-1769783400@descubrelosrios.cl
SUMMARY:CONCIERTO FOJI
DESCRIPTION:La Orquesta Sinfónica Nacional Juvenil\, dirigida por Paolo Bortolameolli\, en gira por  el país\, pasará por Panguipulli para conmemorar los 25 años de trayectoria de la Fundación de Orquestas Juveniles e Infantiles de Chile\, compartiendo con la comunidad un impresionante y exigente repertorio.
URL:https://descubrelosrios.cl/event/concierto-foji/
LOCATION:Gimnasio Municipal de Panguipulli\, Etchegaray 755\, PANGUIPULLI\, VALDIVIA\, Chile
ATTACH;FMTTYPE=image/png:https://descubrelosrios.cl/wp-content/uploads/2026/01/concierto-foji-2.png
END:VEVENT
BEGIN:VEVENT
DTSTART;VALUE=DATE:20260130
DTEND;VALUE=DATE:20260202
DTSTAMP:20260420T053744
CREATED:20260102T190650Z
LAST-MODIFIED:20260107T181006Z
UID:7759-1769731200-1769990399@descubrelosrios.cl
SUMMARY:In Rock Fest Panguipulli
DESCRIPTION:¡El sur de Chile suena más fuerte que nunca! \nEl In Rock Fest Panguipulli reúne durante tres días lo mejor del rock y el metal en un entorno natural único. Con bandas originales y tributos a gigantes de la música\, el festival convierte a San Clemente en el epicentro de la energía rockera\, mezclando música\, camping y comunidad. \nUn evento imperdible y familiar\, con entrada liberada para menores de 12 años\, que posiciona a Panguipulli como destino cultural y turístico.
URL:https://descubrelosrios.cl/event/in-rock-fest-panguipulli/
LOCATION:Panguipulli\, Lago Calafquén\, Panguipulli\, Chile
CATEGORIES:Eventos,Festival
ATTACH;FMTTYPE=image/png:https://descubrelosrios.cl/wp-content/uploads/2026/01/Sin-titulo-5-x-3-cm-7.png
END:VEVENT
BEGIN:VEVENT
DTSTART;VALUE=DATE:20260130
DTEND;VALUE=DATE:20260202
DTSTAMP:20260420T053744
CREATED:20260102T153959Z
LAST-MODIFIED:20260107T180622Z
UID:7723-1769731200-1769990399@descubrelosrios.cl
SUMMARY:VALDIVIA BIKE FEST
DESCRIPTION:Valdivia Bike Fest es un evento de ciclismo de montaña (MTB) realizado en Valdivia\, Chile\, que en 2025 marcó su primera edición internacional al iniciar la International Cup UCI America MTB Series. \nSe trata de un festival deportivo con competencias de Cross-Country Olímpico (XCO)\, eliminator y otras modalidades\, con circuitos técnicos y exigentes pensados para ciclistas de todos los niveles. \n\n\n  \n\n\n\n\n\n\n\n\n\n\nVer esta publicación en Instagram\n\n\n\n\n\n\n\n\n\n\n\n\n\n\n\n\n\n\n\n\n\n\n  \nUna publicación compartida por Valdivia Bike Fest (@valdiviabikefest_)
URL:https://descubrelosrios.cl/event/valdivia-bike-fest/
LOCATION:LA RUTA DEL MAR\, VALDIVIA\, VALDIVIA\, Chile
CATEGORIES:Evento Deportivo
ATTACH;FMTTYPE=image/png:https://descubrelosrios.cl/wp-content/uploads/2026/01/Sin-titulo-5-x-3-cm-6.png
END:VEVENT
BEGIN:VEVENT
DTSTART;VALUE=DATE:20260130
DTEND;VALUE=DATE:20260201
DTSTAMP:20260420T053744
CREATED:20260112T160102Z
LAST-MODIFIED:20260114T202705Z
UID:8299-1769731200-1769903999@descubrelosrios.cl
SUMMARY:Vapor Enco
DESCRIPTION:La obra Vapor Enco es un montaje teatral que rescata la memoria del Lago Panguipulli y la vida comunitaria en torno al histórico barco que navegó entre las décadas de 1940 y 1980. Con música\, teatro y una mirada profundamente territorial\, se convierte en un homenaje vivo al patrimonio cultural del sur de Chile.
URL:https://descubrelosrios.cl/event/vapor-enco/
LOCATION:Teatro educativo de las artes de Panguipulli\, Roberto Bravo 250\, Panguipulli\, Chile
CATEGORIES:teatro
ATTACH;FMTTYPE=image/png:https://descubrelosrios.cl/wp-content/uploads/2026/01/vapor-enco.png
END:VEVENT
BEGIN:VEVENT
DTSTART;TZID=UTC:20260129T180000
DTEND;TZID=UTC:20260129T233000
DTSTAMP:20260420T053744
CREATED:20260102T184145Z
LAST-MODIFIED:20260107T175929Z
UID:7748-1769709600-1769729400@descubrelosrios.cl
SUMMARY:Verano del ayer
DESCRIPTION:Un espectáculo que revive los grandes clásicos de la música\, reuniendo generaciones en un ambiente lleno de nostalgia\, alegría y baile. Con artistas invitados y dobles que hacen vibrar recuerdos inolvidables\, el Coliseo Municipal se transforma en un escenario de emociones compartidas. \nEvento inclusivo y completamente gratuito \n 
URL:https://descubrelosrios.cl/event/verano-del-ayer/
LOCATION:Coliseo Municipal\, Pedro Montt esquina Errázuriz\, Valdivia\, Valdivia\, Chile
CATEGORIES:Eventos,Festival
ATTACH;FMTTYPE=image/png:https://descubrelosrios.cl/wp-content/uploads/2026/01/Sin-titulo-5-x-3-cm-5.png
END:VEVENT
BEGIN:VEVENT
DTSTART;VALUE=DATE:20260129
DTEND;VALUE=DATE:20260202
DTSTAMP:20260420T053744
CREATED:20260121T191203Z
LAST-MODIFIED:20260121T191203Z
UID:8820-1769644800-1769990399@descubrelosrios.cl
SUMMARY:BIERFEST KUNSTMANN 2026
DESCRIPTION:🎶 Música en vivo\, cerveza artesanal y tradición alemana en uno de  los eventos del rubro cervecero mas importantes del sur de Chile.¡El verano se vive con cerveza!🍻
URL:https://descubrelosrios.cl/event/bierfest-kunstmann-2026/
LOCATION:Parque SAVAL\, Isla Teja\, Valdivia\, Valdivia\, Chile
ATTACH;FMTTYPE=image/png:https://descubrelosrios.cl/wp-content/uploads/2026/01/Sin-titulo-5-x-3-cm-24.png
END:VEVENT
BEGIN:VEVENT
DTSTART;VALUE=DATE:20260129
DTEND;VALUE=DATE:20260202
DTSTAMP:20260420T053744
CREATED:20260119T150715Z
LAST-MODIFIED:20260119T150715Z
UID:8630-1769644800-1769990399@descubrelosrios.cl
SUMMARY:FERIA CAMPESINA 2026
DESCRIPTION:Ven a disfrutar de productos del campo\, alimentos locales\, gastronomía tradicional y productos artesanales. 🛍️✨ Una experiencia para apoyar a nuestros productores y vivir la identidad del territorio
URL:https://descubrelosrios.cl/event/feria-campesina-2026/
LOCATION:Costanera Panguipulli\, PANGUIPULLI\, Valdivia\, Chile
ATTACH;FMTTYPE=image/png:https://descubrelosrios.cl/wp-content/uploads/2026/01/Sin-titulo-5-x-3-cm-8-1.png
END:VEVENT
BEGIN:VEVENT
DTSTART;VALUE=DATE:20260129
DTEND;VALUE=DATE:20260202
DTSTAMP:20260420T053744
CREATED:20260114T191558Z
LAST-MODIFIED:20260114T191558Z
UID:8382-1769644800-1769990399@descubrelosrios.cl
SUMMARY:SEMANA RÍO BUENINA
DESCRIPTION:🎉 SEMANA RÍO BUENINA 🎉Ven a celebrar nuestra identidad\, cultura y tradiciones en una semana llena de música\, arte\, gastronomía y actividades para toda la familia. Ven a disfrutar!
URL:https://descubrelosrios.cl/event/semana-rio-buenina/
LOCATION:Recinto Paperchease Club\, RIO BUENO\, RANCO\, Chile
ATTACH;FMTTYPE=image/png:https://descubrelosrios.cl/wp-content/uploads/2026/01/semana-rio-buenina-2.png
END:VEVENT
BEGIN:VEVENT
DTSTART;VALUE=DATE:20260129
DTEND;VALUE=DATE:20260202
DTSTAMP:20260420T053744
CREATED:20251223T230713Z
LAST-MODIFIED:20251231T153927Z
UID:7633-1769644800-1769990399@descubrelosrios.cl
SUMMARY:Bierfest Kunstmann
DESCRIPTION:La Bierfest Kunstmann es una de las fiestas cerveceras más emblemáticas del sur de Chile\, donde la tradición alemana\, la música en vivo y la buena cerveza se encuentran en un ambiente festivo único. Con una variada oferta de cervezas artesanales\, gastronomía típica\, espectáculos y actividades para toda la familia\, este evento invita a disfrutar\, celebrar y vivir la cultura cervecera en Valdivia
URL:https://descubrelosrios.cl/event/bierfest-kunstmann/
LOCATION:Valdivia\, VALDIVIA\, LOS RIOS\, Chile
CATEGORIES:Eventos,Festival
ATTACH;FMTTYPE=image/jpeg:https://descubrelosrios.cl/wp-content/uploads/2025/12/Biesfest-Kunstamann.jpg
END:VEVENT
BEGIN:VEVENT
DTSTART;TZID=UTC:20260127T190000
DTEND;TZID=UTC:20260127T230000
DTSTAMP:20260420T053744
CREATED:20260114T211650Z
LAST-MODIFIED:20260114T211650Z
UID:8407-1769540400-1769554800@descubrelosrios.cl
SUMMARY:BOULEVARD LAS ROSAS
DESCRIPTION:Un imperdible de Panguipulli este verano!! Ven a vivir una jornada de gastronomía local\, música en vivo y artesanías autóctonas en una  tercera jornada de popular certamen que se llevará a cabo este martes 27 de enero en la principal arteria de la ciudad.
URL:https://descubrelosrios.cl/event/boulevard-las-rosas/
LOCATION:Calle Martínez de Rosas\, GABRIELA MISTRAL 1\, PANGUIPULLI\, Valdivia\, Chile
ATTACH;FMTTYPE=image/png:https://descubrelosrios.cl/wp-content/uploads/2026/01/boulevard-3.png
END:VEVENT
BEGIN:VEVENT
DTSTART;VALUE=DATE:20260127
DTEND;VALUE=DATE:20260129
DTSTAMP:20260420T053744
CREATED:20260106T203144Z
LAST-MODIFIED:20260107T170605Z
UID:7987-1769472000-1769644799@descubrelosrios.cl
SUMMARY:CONGRESO INTERNACIONAL DE MODA Y ARTESANÍA SOSTENIBLE (CIMACS)
DESCRIPTION:El Congreso Internacional de Moda y Artesanía Sostenible (CIMACS) — cuyo nombre completo es Congreso Internacional de Moda y Artesanía\, Circular y Sostenible — es un evento profesional y académico dedicado a la moda\, el diseño y la artesanía desde una perspectiva sostenible y centrada en la economía circular.
URL:https://descubrelosrios.cl/event/congreso-internacional-de-modal-y-artesania-sostenible-cimacs/
LOCATION:27 enero: Salón Consistorial Municipalidad de la Union/ 28 Enero: Auditorium U. Santo Tomás Valdivia\, La Unión / Valdivia\, Chile
CATEGORIES:Eventos
END:VEVENT
BEGIN:VEVENT
DTSTART;VALUE=DATE:20260125
DTEND;VALUE=DATE:20260128
DTSTAMP:20260420T053744
CREATED:20260120T162742Z
LAST-MODIFIED:20260120T162742Z
UID:8710-1769299200-1769558399@descubrelosrios.cl
SUMMARY:FESTIVAL BLUES LAGO RANCO
DESCRIPTION:🎶 El blues vuelve a sonar en Lago Ranco 🎶 \nVive tres días de música en vivo\, naturaleza y buena vibra en el Festival de Blues Lago Ranco.Bandas nacionales\, cerveza artesanal y entrada liberada en un entorno único del sur de Chile. \nun evento musical dedicado al blues que se ha convertido en uno de los panoramas musicales más esperados del verano en la comuna de Lago Ranco
URL:https://descubrelosrios.cl/event/festival-blues-lago-ranco/
LOCATION:Costanera Lago Ranco\, Lago Ranco\, Región de Los Ríos
ATTACH;FMTTYPE=image/png:https://descubrelosrios.cl/wp-content/uploads/2026/01/Sin-titulo-5-x-3-cm-17-1.png
END:VEVENT
BEGIN:VEVENT
DTSTART;TZID=UTC:20260124T180000
DTEND;TZID=UTC:20260124T203000
DTSTAMP:20260420T053744
CREATED:20260102T182545Z
LAST-MODIFIED:20260105T192034Z
UID:7737-1769277600-1769286600@descubrelosrios.cl
SUMMARY:Carrera de los autos locos 2026
DESCRIPTION:Cada verano\, Valdivia se transforma en un escenario único con la Carrera de Autos Locos\, parte del programa Verano para Todos. Familias\, jóvenes y adultos se reúnen para dar vida a vehículos no motorizados\, diseñados con ingenio y humor\, que descienden por las calles en una competencia tan disparatada como emocionante.
URL:https://descubrelosrios.cl/event/carrera-de-los-autos-locos-2026/
LOCATION:Av Pedro Montt / Av Circunvalación sur\, Valdivia\, Chile
CATEGORIES:Eventos
ATTACH;FMTTYPE=image/jpeg:https://descubrelosrios.cl/wp-content/uploads/2026/01/autos_locos_muni.jpeg
END:VEVENT
BEGIN:VEVENT
DTSTART;VALUE=DATE:20260124
DTEND;VALUE=DATE:20260126
DTSTAMP:20260420T053744
CREATED:20260119T203121Z
LAST-MODIFIED:20260119T203121Z
UID:8675-1769212800-1769385599@descubrelosrios.cl
SUMMARY:FERIA RIVERAS DE CUYINHUE
DESCRIPTION:Es un evento tradicional y festivo que se realiza en el sector de Cuyinhue\, en la comuna de Mariquina\, Región de Los Ríos\, Chile. Cuyinhue es una localidad rural ubicada en las riberas del Río Cruces y accesible desde San José de la Mariquina por la Ruta T-248.
URL:https://descubrelosrios.cl/event/feria-riveras-de-cuyinhue/
LOCATION:Recinto Junta de Vecinos de Cuyinhue\, Ruta T-258 S/N\, Mariquina\, Valdivia\, Chile
ATTACH;FMTTYPE=image/png:https://descubrelosrios.cl/wp-content/uploads/2026/01/Sin-titulo-5-x-3-cm-11-1.png
END:VEVENT
BEGIN:VEVENT
DTSTART;VALUE=DATE:20260124
DTEND;VALUE=DATE:20260126
DTSTAMP:20260420T053744
CREATED:20260119T201823Z
LAST-MODIFIED:20260119T201823Z
UID:8670-1769212800-1769385599@descubrelosrios.cl
SUMMARY:FERIA DE LA MIEL
DESCRIPTION:🌼🍯 El sabor del campo te espera en MariquinaEste 24 y 25 de enero\, ven a la Feria de la Miel 🐝✨Una experiencia llena de tradición\, aromas y dulzura natural 🍯 \n🎉 Productos locales🎨 Artesanía y cultura👨‍👩‍👧‍👦 Plan perfecto para disfrutar en familia
URL:https://descubrelosrios.cl/event/feria-de-la-miel/
LOCATION:VEGA LARGA\, Mariquina\, Valdivia\, Chile
ATTACH;FMTTYPE=image/png:https://descubrelosrios.cl/wp-content/uploads/2026/01/Sin-titulo-5-x-3-cm-10-1.png
END:VEVENT
BEGIN:VEVENT
DTSTART;VALUE=DATE:20260124
DTEND;VALUE=DATE:20260125
DTSTAMP:20260420T053744
CREATED:20260120T195015Z
LAST-MODIFIED:20260120T195020Z
UID:8763-1769212800-1769299199@descubrelosrios.cl
SUMMARY:CAMPEONATO DE ESCALADA INCLUSIVO Y ADAPTADO
DESCRIPTION:El Campeonato de Escalada Inclusivo y Adaptado se constituye como una instancia deportiva orientada a garantizar la participación de personas con diversas capacidades en un entorno seguro y accesible. La actividad promueve la práctica de la escalada como disciplina integradora\, fomentando valores de esfuerzo\, respeto y compañerismo. \nEste encuentro busca visibilizar la importancia de la accesibilidad en el deporte\, consolidando la escalada como una herramienta de desarrollo físico y social\, y proyectando un modelo de participación equitativa que fortalece la comunidad y promueve la inclusión.
URL:https://descubrelosrios.cl/event/campeonato-de-escalada-inclusivo-y-adaptado/
LOCATION:Centro de Ferias Parque Saval\, Parque Saval 1\, VALDIVIA\, Chile
CATEGORIES:Evento Deportivo
ATTACH;FMTTYPE=image/png:https://descubrelosrios.cl/wp-content/uploads/2026/01/Captura-de-pantalla-2026-01-20-164909.png
END:VEVENT
BEGIN:VEVENT
DTSTART;VALUE=DATE:20260124
DTEND;VALUE=DATE:20260125
DTSTAMP:20260420T053744
CREATED:20260114T132334Z
LAST-MODIFIED:20260114T132334Z
UID:8350-1769212800-1769299199@descubrelosrios.cl
SUMMARY:CAMPAMENTO DE ROCK LOS LAGOS
DESCRIPTION:Rock\, río y naturaleza 🌿🎶\nVen a disfrutar de lo mejor de la música local en un entorno único\, a orillas del río San Pedro.
URL:https://descubrelosrios.cl/event/campamento-de-rock-los-lagos/
LOCATION:Camping Municipal Tomén\, 45XG+76\, Curaleufu\,\, Los Lagos\, VALDIVIA\, Chile
ATTACH;FMTTYPE=image/png:https://descubrelosrios.cl/wp-content/uploads/2026/01/campamento-de-rock-los-lagos-2.png
END:VEVENT
BEGIN:VEVENT
DTSTART;TZID=UTC:20260123T213000
DTEND;TZID=UTC:20260123T233000
DTSTAMP:20260420T053744
CREATED:20260122T203902Z
LAST-MODIFIED:20260122T203902Z
UID:8877-1769203800-1769211000@descubrelosrios.cl
SUMMARY:Secretos de la Casona: El pasado regresa para contarse en escena
DESCRIPTION:Ven a disfrutar de recorridos patrimoniales teatralizados en la Casa de la Cultura de Mariquina ( ex casonoa Exss) Esta iniciativa\, ejecutada por Las Furias Teatro\, busca poner en valor la historia y patrimonio locales mediante estos recorridos nocturnos
URL:https://descubrelosrios.cl/event/secretos-de-la-casona-el-pasado-regresa-para-contarse-en-escena/
LOCATION:Casona de la Cultura Municipalidad de Mariquina\, T-20 1350\, San José de la Mariquina\, Valdivia\, Chile
END:VEVENT
BEGIN:VEVENT
DTSTART;TZID=UTC:20260123T120000
DTEND;TZID=UTC:20260125T200000
DTSTAMP:20260420T053744
CREATED:20251231T144416Z
LAST-MODIFIED:20260107T170610Z
UID:7687-1769169600-1769371200@descubrelosrios.cl
SUMMARY:Expo Mundo Rural
DESCRIPTION:Durante la feria\, los asistentes podrán recorrer stands con venta de productos locales frescos y elaborados\, como frutas\, hortalizas\, quesos\, miel\, embutidos y mermeladas\, además de artesanía\, plantas y cosmética natural. La experiencia se complementa con una zona gastronómica que ofrecerá degustaciones y comida típica\, incluyendo asados\, empanadas\, pastel de choclo y otras preparaciones tradicionales.
URL:https://descubrelosrios.cl/event/expo-mundo-rural/
LOCATION:Centro de Ferias Parque Saval\, Parque Saval 1\, VALDIVIA\, Chile
CATEGORIES:Eventos
ATTACH;FMTTYPE=image/png:https://descubrelosrios.cl/wp-content/uploads/2025/12/Mundo-rural.png
END:VEVENT
BEGIN:VEVENT
DTSTART;VALUE=DATE:20260123
DTEND;VALUE=DATE:20260126
DTSTAMP:20260420T053744
CREATED:20260120T205320Z
LAST-MODIFIED:20260120T205320Z
UID:8805-1769126400-1769385599@descubrelosrios.cl
SUMMARY:SEMANA PICHIRROPULLANA
DESCRIPTION:🌟 ¡La Semana Pichirropullana ya está aquí! 🌟 \nUna celebración que llena nuestras calles de cultura\, tradiciones y alegría. Ven y disfruta de música\, danza\, gastronomía y actividades para toda la familia.
URL:https://descubrelosrios.cl/event/semana-pichirropullana/
LOCATION:Pichirropulli\, Pichirropulli S/N\, Paillaco\, Valdivia\, Chile
ATTACH;FMTTYPE=image/png:https://descubrelosrios.cl/wp-content/uploads/2026/01/Sin-titulo-5-x-3-cm-23.png
END:VEVENT
BEGIN:VEVENT
DTSTART;VALUE=DATE:20260123
DTEND;VALUE=DATE:20260126
DTSTAMP:20260420T053744
CREATED:20260115T160443Z
LAST-MODIFIED:20260115T161434Z
UID:8481-1769126400-1769385599@descubrelosrios.cl
SUMMARY:FESTIVAL ESCALADA INDOOR & OUTDOOR
DESCRIPTION:El Festival de Escalada Indoor & Outdoor de Panguipulli es un encuentro deportivo y comunitario que celebra la escalada en todas sus formas\, combinando actividades en muro artificial y en roca natural en un entorno privilegiado del sur de Chile. Te esperamos!
URL:https://descubrelosrios.cl/event/festival-de-escalada-indoor-outdoor/
LOCATION:Polideportivo panguipulli y Piedra del Indio\, Chauquén
ATTACH;FMTTYPE=image/png:https://descubrelosrios.cl/wp-content/uploads/2026/01/escalada.png
END:VEVENT
BEGIN:VEVENT
DTSTART;VALUE=DATE:20260123
DTEND;VALUE=DATE:20260126
DTSTAMP:20260420T053744
CREATED:20260114T185228Z
LAST-MODIFIED:20260114T185502Z
UID:8368-1769126400-1769385599@descubrelosrios.cl
SUMMARY:MUESTRA CULTURAL COSTUMBRISTA
DESCRIPTION:🌿🎶 MUESTRA CULTURAL COSTUMBRISTA 🎶🌿 \nLa comunidad de Río Bueno invita a residentes y visitantes a vivir una jornada llena de tradiciones\, gastronomía típica e  identidad y cultura local. los esperamos! \n 
URL:https://descubrelosrios.cl/event/muestra-cultural-costumbrista/
LOCATION:Recinto Paperchease Club\, RIO BUENO\, RANCO\, Chile
ATTACH;FMTTYPE=image/png:https://descubrelosrios.cl/wp-content/uploads/2026/01/MUESTRA-COSTUMBRISTA-2.png
END:VEVENT
BEGIN:VEVENT
DTSTART;VALUE=DATE:20260123
DTEND;VALUE=DATE:20260125
DTSTAMP:20260420T053744
CREATED:20260116T135755Z
LAST-MODIFIED:20260116T135801Z
UID:8556-1769126400-1769299199@descubrelosrios.cl
SUMMARY:Fiesta Ranchera en Lago Ranco
DESCRIPTION:La Fiesta Ranchera en Lago Ranco te invita a disfrutar de la música en vivo\, la gastronomía típica y el ambiente festivo del verano. Un encuentro lleno de alegría y tradición que reúne a la comunidad y visitantes en torno a los mejores ritmos rancheros\, con el encanto único del lago como escenario.
URL:https://descubrelosrios.cl/event/fiesta-ranchera-en-lago-ranco/
LOCATION:Mercadito  Ignao\, Ruta t-85 Ignao\, Lago Ranco\, Chile
CATEGORIES:Eventos
ATTACH;FMTTYPE=image/png:https://descubrelosrios.cl/wp-content/uploads/2026/01/Captura-de-pantalla-2026-01-16-105613.png
END:VEVENT
END:VCALENDAR