BEGIN:VCALENDAR
VERSION:2.0
PRODID:-// - ECPv6.15.14//NONSGML v1.0//EN
CALSCALE:GREGORIAN
METHOD:PUBLISH
X-ORIGINAL-URL:https://descubrelosrios.cl
X-WR-CALDESC:Eventos para 
REFRESH-INTERVAL;VALUE=DURATION:PT1H
X-Robots-Tag:noindex
X-PUBLISHED-TTL:PT1H
BEGIN:VTIMEZONE
TZID:UTC
BEGIN:STANDARD
TZOFFSETFROM:+0000
TZOFFSETTO:+0000
TZNAME:UTC
DTSTART:20250101T000000
END:STANDARD
END:VTIMEZONE
BEGIN:VEVENT
DTSTART;VALUE=DATE:20260410
DTEND;VALUE=DATE:20260413
DTSTAMP:20260419T201857
CREATED:20260224T200245Z
LAST-MODIFIED:20260224T200245Z
UID:9297-1775779200-1776038399@descubrelosrios.cl
SUMMARY:V CONCURSO DE ESCULTURAS
DESCRIPTION:El V Concurso de Esculturas reunirá en abril  a escultores que crean obras inspiradas en la naturaleza y la biodiversidad del bosque valdiviano\, utilizando principalmente madera nativa. Las esculturas quedan exhibidas en la reserva\, promoviendo la unión entre arte\, cultura y conservación ambiental. 🌿🎨
URL:https://descubrelosrios.cl/event/v-concurso-de-esculturas/
LOCATION:Reserva Biológica Huilo Huilo\, Carretera Internacional CH 203\, km 55 s/n\, PANGUIPULLI\, Valdivia\, Chile
CATEGORIES:Eventos
ATTACH;FMTTYPE=image/png:https://descubrelosrios.cl/wp-content/uploads/2026/02/Sin-titulo-5-x-3-cm-62.png
END:VEVENT
BEGIN:VEVENT
DTSTART;VALUE=DATE:20260411
DTEND;VALUE=DATE:20260412
DTSTAMP:20260419T201857
CREATED:20260224T201639Z
LAST-MODIFIED:20260224T201639Z
UID:9300-1775865600-1775951999@descubrelosrios.cl
SUMMARY:CORRIDA  FAMILIAR DÍA DEL DEPORTE
DESCRIPTION:Es un evento recreativo y familiar\, generalmente con un recorrido cercano a 5 km\, realizado en la Costanera de la ciudad durante la mañana. \nLos detalles finales (horario exacto\, ruta e inscripciones) se confirman días antes a través de canales oficiales municipales y del Día del Deporte.
URL:https://descubrelosrios.cl/event/corrida-familiar-dia-del-deporte/
LOCATION:Avenida Costanera Arturo Prat esquina Janequeo\, costanera Arturo Prat\, Valdivia\, Valdivia\, Chile
CATEGORIES:Evento Deportivo
ATTACH;FMTTYPE=image/png:https://descubrelosrios.cl/wp-content/uploads/2026/02/Sin-titulo-5-x-3-cm-63.png
END:VEVENT
BEGIN:VEVENT
DTSTART;VALUE=DATE:20260417
DTEND;VALUE=DATE:20260420
DTSTAMP:20260419T201857
CREATED:20260105T193335Z
LAST-MODIFIED:20260108T145217Z
UID:7869-1776384000-1776643199@descubrelosrios.cl
SUMMARY:3ra Fiesta de la manzana y la sidra
DESCRIPTION:La Fiesta de la Manzana y la Sidra es un evento gastronómico y cultural que celebra la identidad frutícola del sur de Chile\, con especial énfasis en la manzana y la sidra artesanal. Incluye degustaciones\, actividades familiares\, gastronomía local y expresión cultural en torno a estos productos ligados al territorio de Los Ríos.
URL:https://descubrelosrios.cl/event/fiesta-de-la-manzana-y-la-sidra-2026/
LOCATION:Programado
CATEGORIES:Eventos
ATTACH;FMTTYPE=image/png:https://descubrelosrios.cl/wp-content/uploads/2026/01/Sin-titulo-5-x-3-cm-15.png
END:VEVENT
BEGIN:VEVENT
DTSTART;TZID=UTC:20260417T203000
DTEND;TZID=UTC:20260417T223000
DTSTAMP:20260419T201857
CREATED:20260106T201013Z
LAST-MODIFIED:20260108T145506Z
UID:7980-1776457800-1776465000@descubrelosrios.cl
SUMMARY:Show de Stand up comedy  Felipe Avello
DESCRIPTION:Felipe Avello es uno de los referentes del stand up comedy en Chile\, reconocido por su estilo cercano\, irónico y lleno de improvisación. \nSu humor se caracteriza por la complicidad con el público\, el uso de situaciones cotidianas y un tono desenfadado que mezcla crítica social con ocurrencias espontáneas. En sus presentaciones\, Avello logra que la audiencia se sienta parte del espectáculo\, generando un ambiente de confianza y risas constantes.
URL:https://descubrelosrios.cl/event/show-de-stand-up-comedy-felipe-avello/
LOCATION:Casino Dreams\, Carampagne 190\, VALDIVIA\, LOS RIOS\, Chile
CATEGORIES:Eventos
ATTACH;FMTTYPE=image/jpeg:https://descubrelosrios.cl/wp-content/uploads/2026/01/CGXJ5MRROVFC3BUER2NBKA5I24.jpeg
END:VEVENT
BEGIN:VEVENT
DTSTART;VALUE=DATE:20260418
DTEND;VALUE=DATE:20260420
DTSTAMP:20260419T201857
CREATED:20251230T201246Z
LAST-MODIFIED:20260326T172024Z
UID:7645-1776470400-1776643199@descubrelosrios.cl
SUMMARY:II Encuentro del Cranberry
DESCRIPTION:Cran Fest Lanco 2026 es una celebración que pone en valor la identidad local\, la cultura y la producción del territorio. Este evento reúne gastronomía\, música en vivo\, emprendimientos y actividades familiares\, creando un espacio de encuentro que impulsa el desarrollo local y posiciona a Lanco como un destino vibrante y auténtico dentro de la Región de Los Ríos.
URL:https://descubrelosrios.cl/event/ii-encuentro-del-cranberry/
LOCATION:Colegio María Reina de Purulón\, Lanco\, REGION DE LOS RIOS\, Chile
CATEGORIES:Eventos,Festival
ATTACH;FMTTYPE=image/png:https://descubrelosrios.cl/wp-content/uploads/2025/12/Captura-de-pantalla-2026-03-10-150355.png
END:VEVENT
BEGIN:VEVENT
DTSTART;TZID=UTC:20260419T203000
DTEND;TZID=UTC:20260419T223000
DTSTAMP:20260419T201857
CREATED:20260316T205612Z
LAST-MODIFIED:20260316T205612Z
UID:9361-1776630600-1776637800@descubrelosrios.cl
SUMMARY:Tributo a Coldplay
DESCRIPTION:🎶 Tributo a Coldplay en Valdivia: Candlelight: Tributo a Coldplay \n🎻 Concierto íntimo con cuarteto de cuerdas y velas generando una atmósfera envolvente\, tocando canciones emblemáticas de esta banda británica  como Fix You\, Yellow y Clocks.
URL:https://descubrelosrios.cl/event/tributo-a-coldplay/
LOCATION:Aula Magna  Uach\, Campus Isla Teja UACH\, Valdivia\, Valdivia
CATEGORIES:Eventos
ATTACH;FMTTYPE=image/png:https://descubrelosrios.cl/wp-content/uploads/2026/03/Sin-titulo-5-x-3-cm-68.png
END:VEVENT
BEGIN:VEVENT
DTSTART;TZID=UTC:20260429T200000
DTEND;TZID=UTC:20260429T220000
DTSTAMP:20260419T201857
CREATED:20260325T202229Z
LAST-MODIFIED:20260325T202507Z
UID:9387-1777492800-1777500000@descubrelosrios.cl
SUMMARY:Gala escuela de flamenco\, Ecos Andaluces. ¨ Las heridas del cante¨
DESCRIPTION:La gala de la Escuela de Flamenco Ecos Andaluces se vive como una explosión de arte y emoción. Los estudiantes llenan el escenario con fuerza y elegancia\, recorriendo distintos palos del flamenco y transmitiendo pasión en cada cuadro. \nEn el corazón de la velada está Ricardo Alvarado\, maestro y guía\, cuya enseñanza se refleja en la disciplina y autenticidad de cada interpretación. Su dirección inspira y da cohesión al espectáculo\, convirtiendo la gala en un homenaje vivo a la tradición andaluza y en una muestra del presente y futuro del flamenco.
URL:https://descubrelosrios.cl/event/gala-escuela-de-flamenco-ecos-andaluces-%c2%a8-las-heridas-del-cante%c2%a8/
LOCATION:Teatro Cervantes\, Chacabuco 210\, Valdivia\, Valdivia\, Chile
CATEGORIES:Gala
ATTACH;FMTTYPE=image/png:https://descubrelosrios.cl/wp-content/uploads/2026/03/Captura-de-pantalla-2026-03-25-172019.png
END:VEVENT
BEGIN:VEVENT
DTSTART;VALUE=DATE:20260507
DTEND;VALUE=DATE:20260510
DTSTAMP:20260419T201857
CREATED:20260106T013708Z
LAST-MODIFIED:20260107T170415Z
UID:7910-1778112000-1778371199@descubrelosrios.cl
SUMMARY:Festival de cine de terror
DESCRIPTION:El Festival Internacional de Cine de Terror de Valdivia se realiza en mayo\, con funciones en el Teatro Municipal y el Cine Club UACh. El evento reúne a cineastas nacionales e internacionales en torno a competencias de largometrajes\, cortometrajes y la sección “Cortos en 2 minutos”\, consolidando a Valdivia como referente del cine de terror en Chile. \nCon más de dos décadas de trayectoria\, el certamen fortalece la oferta cultural de la región\, fomenta la participación ciudadana y promueve la creatividad audiovisual en un ambiente que mezcla fantasía\, suspenso y cultura.
URL:https://descubrelosrios.cl/event/festival-de-cine-de-terror/
LOCATION:Teatro  Lord Cochrane\, Independencia 455\, Chile
CATEGORIES:Eventos,Festival
ATTACH;FMTTYPE=image/png:https://descubrelosrios.cl/wp-content/uploads/2026/01/cine-de-terror.png
END:VEVENT
BEGIN:VEVENT
DTSTART;VALUE=DATE:20260515
DTEND;VALUE=DATE:20260518
DTSTAMP:20260419T201857
CREATED:20260106T020005Z
LAST-MODIFIED:20260108T145953Z
UID:7917-1778803200-1779062399@descubrelosrios.cl
SUMMARY:Fungi Fest
DESCRIPTION:Se celebra cada otoño en el Parque Saval\, reuniendo a miles de personas en torno a charlas\, talleres\, feria y gastronomía. El festival posiciona a Valdivia como capital de la cultura fúngica en Sudamérica.
URL:https://descubrelosrios.cl/event/fungi-fest/
LOCATION:Centro de Ferias Parque Saval\, Parque Saval 1\, VALDIVIA\, Chile
CATEGORIES:Eventos
ATTACH;FMTTYPE=image/png:https://descubrelosrios.cl/wp-content/uploads/2026/01/Sin-titulo-5-x-3-cm-14.png
END:VEVENT
BEGIN:VEVENT
DTSTART;VALUE=DATE:20260521
DTEND;VALUE=DATE:20260525
DTSTAMP:20260419T201857
CREATED:20260219T124429Z
LAST-MODIFIED:20260219T124434Z
UID:9236-1779321600-1779667199@descubrelosrios.cl
SUMMARY:2do Festival de las Abejas y la Miel
DESCRIPTION:El Festival de las Abejas y la Miel se ha consolidado como un espacio de encuentro que reúne a apicultores\, agricultores\, instituciones académicas y autoridades regionales en torno al valor estratégico de la apicultura. La iniciativa busca fortalecer el rubro apícola como actividad económica relevante\, promover la calidad de la miel y sus derivados\, y sensibilizar sobre la importancia de las abejas en la biodiversidad y la producción agrícola. \nCon actividades como paneles\, charlas\, degustaciones y exhibiciones\, el festival se proyecta como una plataforma para difundir conocimiento\, fomentar la colaboración público-privada y posicionar la miel como un motor cultural y económico de la región
URL:https://descubrelosrios.cl/event/2do-festival-de-las-abejas-y-la-miel/
LOCATION:Centro de Ferias Parque Saval\, Parque Saval 1\, VALDIVIA\, Chile
CATEGORIES:Festival
ATTACH;FMTTYPE=image/png:https://descubrelosrios.cl/wp-content/uploads/2026/02/Captura-de-pantalla-2026-02-19-094152.png
END:VEVENT
BEGIN:VEVENT
DTSTART;TZID=UTC:20260523T200000
DTEND;TZID=UTC:20260523T220000
DTSTAMP:20260419T201857
CREATED:20260417T161156Z
LAST-MODIFIED:20260417T161202Z
UID:9431-1779566400-1779573600@descubrelosrios.cl
SUMMARY:El musical Michael Jackson  The Legend
DESCRIPTION:El musical Michael Jackson: The Legend . ofrece un espectáculo de alto impacto que revive la vida\, música y legado del “Rey del Pop” mediante coreografías\, voces en vivo y una puesta en escena cinematográfica. \n\nEl musical se suma al renovado interés global por Michael Jackson\, impulsado también por el próximo estreno de su película biográfica.\nBusca emocionar a distintas generaciones\, conectando con quienes vivieron su auge en los años 80 y 90\, y con nuevas audiencias que descubren su legado.
URL:https://descubrelosrios.cl/event/el-musical-michael-jackson-the-legend/
LOCATION:Teatro Regional Cervantes\, Chacabuco 210\, VALDIVIA\, Programado\, Chile
CATEGORIES:teatro
ATTACH;FMTTYPE=image/png:https://descubrelosrios.cl/wp-content/uploads/2026/04/Captura-de-pantalla-2026-04-17-121047.png
END:VEVENT
BEGIN:VEVENT
DTSTART;VALUE=DATE:20260530
DTEND;VALUE=DATE:20260531
DTSTAMP:20260419T201857
CREATED:20260223T191933Z
LAST-MODIFIED:20260223T191933Z
UID:9279-1780099200-1780185599@descubrelosrios.cl
SUMMARY:XIV EL CANTO DEL CHUCAO
DESCRIPTION:El XIV Festival El Canto del Chucao es un evento musical y cultural cuya tematica está relacionada al bosque\, su flora y fauna. \nCombina música en vivo\, naturaleza y turismo sustentable\, ofreciendo conciertos en un entorno de bosque nativo junto a actividades al aire libre y gastronomía local. 🌿🎶
URL:https://descubrelosrios.cl/event/xiv-el-canto-del-chucao/
LOCATION:Teatro educativo de las artes de Panguipulli\, Roberto Bravo 250\, Panguipulli\, Chile
ATTACH;FMTTYPE=image/png:https://descubrelosrios.cl/wp-content/uploads/2026/02/Sin-titulo-5-x-3-cm-60.png
END:VEVENT
BEGIN:VEVENT
DTSTART;VALUE=DATE:20260604
DTEND;VALUE=DATE:20260607
DTSTAMP:20260419T201857
CREATED:20260123T161704Z
LAST-MODIFIED:20260123T161725Z
UID:8890-1780531200-1780790399@descubrelosrios.cl
SUMMARY:Congreso Cirujanos y Cirujanas Dentistas del Sur
DESCRIPTION:El Congreso de Cirujanos y Cirujanas Dentistas del Sur reúne a profesionales y estudiantes de odontología en un espacio de actualización científica y reflexión gremial. Con conferencias\, talleres y presentación de investigaciones\, el encuentro destacó por su enfoque territorial y su compromiso con una odontología inclusiva y orientada al bienestar de las comunidades del sur de Chile.
URL:https://descubrelosrios.cl/event/congreso-cirujanos-y-cirujanas-dentistas-del-sur/
LOCATION:Centro de convenciones Hotel Dreams\, Valdivia\, Región de los Ríos
CATEGORIES:Congreso
ATTACH;FMTTYPE=image/png:https://descubrelosrios.cl/wp-content/uploads/2026/01/Captura-de-pantalla-2026-01-23-131556.png
END:VEVENT
BEGIN:VEVENT
DTSTART;TZID=UTC:20260610T200000
DTEND;TZID=UTC:20260610T220000
DTSTAMP:20260419T201857
CREATED:20260316T204922Z
LAST-MODIFIED:20260316T204930Z
UID:9362-1781121600-1781128800@descubrelosrios.cl
SUMMARY:God save the Queen
DESCRIPTION:“God Save the Queen” con música de Queen es un espectáculo imperdible que revive la fuerza y la magia de la legendaria banda británica. Con interpretaciones vibrantes\, una puesta en escena de gran calidad y un repertorio cargado de clásicos inolvidables\, el show logra cautivar al público desde el primer momento. \nEs una experiencia única que combina talento\, energía y emoción\, consolidándose como uno de los mejores espectáculos del mundo. ¡Lo invitamos cordialmente a ser parte de esta presentación inolvidable!
URL:https://descubrelosrios.cl/event/god-save-the-queen/
LOCATION:Teatro Regional Cervantes\, Chacabuco 210\, VALDIVIA\, Programado\, Chile
CATEGORIES:Eventos
ATTACH;FMTTYPE=image/png:https://descubrelosrios.cl/wp-content/uploads/2026/03/Captura-de-pantalla-2026-03-16-173731.png
END:VEVENT
BEGIN:VEVENT
DTSTART;VALUE=DATE:20260626
DTEND;VALUE=DATE:20260629
DTSTAMP:20260419T201857
CREATED:20260326T211548Z
LAST-MODIFIED:20260413T171404Z
UID:9403-1782432000-1782691199@descubrelosrios.cl
SUMMARY:FESTIVAL DE INVIERNO CHOSHUENCO 2026
DESCRIPTION:❄️✨ ¡Vive el invierno en Choshuenco! \nSe viene una nueva versión del Festival de Invierno Choshuenco 2026\, un panorama imperdible en epoca invernal en el Destino Sietelagos en su tercera edición \n🎶 Música en vivo\n🍲 Gastronomía local\n🛍️ Feria de emprendedores\n👨‍👩‍👧‍👦 Actividades para toda la familia \nVen a disfrutar del invierno entre la nieve\, el lago y la montaña 🏔️❄️ \n 
URL:https://descubrelosrios.cl/event/festival-de-invierno-choshuenco-2026/
LOCATION:Feria de Choshuenco\, sector playa de Choshuenco\, Panguipulli\, Valdivia\, Chile
CATEGORIES:Festival
ATTACH;FMTTYPE=image/png:https://descubrelosrios.cl/wp-content/uploads/2026/03/Sin-titulo-5-x-3-cm-69.png
END:VEVENT
BEGIN:VEVENT
DTSTART;VALUE=DATE:20260702
DTEND;VALUE=DATE:20260708
DTSTAMP:20260419T201857
CREATED:20260106T021814Z
LAST-MODIFIED:20260108T150609Z
UID:7920-1782950400-1783468799@descubrelosrios.cl
SUMMARY:Festival lluvia de teatro
DESCRIPTION:Cada invierno\, Valdivia se convierte en escenario de emociones y creatividad con el Festival Lluvia de Teatro\, donde compañías nacionales presentan obras que van desde la comedia hasta el teatro documental. Bajo el lema “al mal tiempo… buen teatro”\, el certamen transforma la lluvia en cultura y consolida a la ciudad como capital de las artes escénicas del sur de Chile.
URL:https://descubrelosrios.cl/event/festival-lluvia-de-teatro/
LOCATION:Teatro Regional Cervantes\, Chacabuco 210\, VALDIVIA\, Programado\, Chile
CATEGORIES:Eventos,Festival
ATTACH;FMTTYPE=image/png:https://descubrelosrios.cl/wp-content/uploads/2026/01/Sin-titulo-5-x-3-cm-17.png
END:VEVENT
BEGIN:VEVENT
DTSTART;VALUE=DATE:20260704
DTEND;VALUE=DATE:20260706
DTSTAMP:20260419T201857
CREATED:20260227T194410Z
LAST-MODIFIED:20260227T194410Z
UID:9323-1783123200-1783295999@descubrelosrios.cl
SUMMARY:IV VERSIÓN FESTIVAL DEL TEJIDO " LLUVIA Y LANA"
DESCRIPTION:La IV versión del Festival del Tejido “Lluvia y Lana” es un encuentro dedicado al tejido\, la lana y las fibras naturales que se realiza en Valdivia. \nEste certámen reúne a expositores de hilados\, accesorios y diseño textil\, además de ofrecer talleres y actividades para la comunidad tejeril.
URL:https://descubrelosrios.cl/event/iv-version-festival-del-tejido-lluvia-y-lana/
LOCATION:Hotel Puerta del Sur\, Los Lingues 950\, Valdivia\, Valdivia\, Chile
CATEGORIES:Festival
ATTACH;FMTTYPE=image/png:https://descubrelosrios.cl/wp-content/uploads/2026/02/Sin-titulo-5-x-3-cm-65.png
END:VEVENT
BEGIN:VEVENT
DTSTART;VALUE=DATE:20260731
DTEND;VALUE=DATE:20260803
DTSTAMP:20260419T201857
CREATED:20260106T003141Z
LAST-MODIFIED:20260108T150309Z
UID:7904-1785456000-1785715199@descubrelosrios.cl
SUMMARY:Fiesta de la sopa
DESCRIPTION:La Fiesta de la Sopa 2026 en Valdivia se desarrolla en el Parque Saval y reúne a familias\, turistas y productores gastronómicos. Cerca de 30 expositores ofrecen sopas tradicionales y creativas\, mientras la música en vivo y las actividades culturales acompañan la jornada. El evento fortalece la identidad culinaria de Los Ríos y posiciona a Valdivia como referente nacional en gastronomía y turismo invernal.
URL:https://descubrelosrios.cl/event/fiesta-de-la-sopa/
LOCATION:Centro de Ferias Parque Saval\, Parque Saval 1\, VALDIVIA\, Chile
CATEGORIES:Eventos
ATTACH;FMTTYPE=image/png:https://descubrelosrios.cl/wp-content/uploads/2026/01/Sin-titulo-5-x-3-cm-16.png
END:VEVENT
BEGIN:VEVENT
DTSTART;VALUE=DATE:20260801
DTEND;VALUE=DATE:20260802
DTSTAMP:20260419T201857
CREATED:20260203T122055Z
LAST-MODIFIED:20260203T122102Z
UID:9048-1785542400-1785628799@descubrelosrios.cl
SUMMARY:II Los Ñadis Trail Running
DESCRIPTION:La II versión de Los Ñadis Trail Running se presenta como una instancia deportiva y recreativa que invita a recorrer los paisajes de nuestro entorno natural\, promoviendo la vida sana y el respeto por la naturaleza. Con circuitos diseñados para distintos niveles de participantes\, este evento busca fomentar la integración comunitaria\, el turismo local y la valoración del patrimonio ambiental\, consolidándose como un espacio de encuentro y desarrollo para la región.
URL:https://descubrelosrios.cl/event/ii-los-nadis-trail-running/
LOCATION:Los Ñadis\, Panguipulli\, Los Ríos\, Chile
CATEGORIES:Evento Deportivo
ATTACH;FMTTYPE=image/png:https://descubrelosrios.cl/wp-content/uploads/2026/02/Captura-de-pantalla-2026-02-03-091420.png
END:VEVENT
BEGIN:VEVENT
DTSTART;VALUE=DATE:20260814
DTEND;VALUE=DATE:20260817
DTSTAMP:20260419T201857
CREATED:20260224T204218Z
LAST-MODIFIED:20260224T204218Z
UID:9309-1786665600-1786924799@descubrelosrios.cl
SUMMARY:X VERSIÓN ENCUENTRO DE MONTAÑA ENTRELENGAS
DESCRIPTION:“Entre Lengas”\, instancia que en su décima versión reúne a expertos\, autoridades y público general en torno al turismo de montaña\, la conservación ambiental y la promoción de experiencias seguras y sostenibles en los territorios cordilleranos.
URL:https://descubrelosrios.cl/event/x-version-encuentro-de-montana-entrelengas/
LOCATION:carpa CECS\, Libertad 1-49\, Valdivia\, Valdivia\, Chile
ATTACH;FMTTYPE=image/png:https://descubrelosrios.cl/wp-content/uploads/2026/02/Sin-titulo-5-x-3-cm-64.png
END:VEVENT
BEGIN:VEVENT
DTSTART;VALUE=DATE:20260825
DTEND;VALUE=DATE:20261101
DTSTAMP:20260419T201857
CREATED:20260212T204118Z
LAST-MODIFIED:20260212T204125Z
UID:9209-1787616000-1793491199@descubrelosrios.cl
SUMMARY:Juegos de la Araucanía
DESCRIPTION:Los Juegos de la Araucanía constituyen el principal encuentro deportivo binacional entre las regiones patagónicas de Chile y Argentina. Con más de tres décadas de trayectoria\, este evento fomenta la integración y el desarrollo juvenil a través de disciplinas como atletismo\, natación\, fútbol\, básquetbol\, vóleibol y judo. La competencia se ha consolidado como un espacio de intercambio cultural y deportivo\, fortaleciendo la cooperación entre ambos países y proyectando a nuevas generaciones de atletas.
URL:https://descubrelosrios.cl/event/juegos-de-la-araucania/
LOCATION:Complejo Arauco\, Valdivia\, Chile
CATEGORIES:Evento Deportivo
ATTACH;FMTTYPE=image/png:https://descubrelosrios.cl/wp-content/uploads/2026/02/Captura-de-pantalla-2026-02-12-174018.png
END:VEVENT
BEGIN:VEVENT
DTSTART;VALUE=DATE:20260828
DTEND;VALUE=DATE:20260831
DTSTAMP:20260419T201857
CREATED:20260406T160354Z
LAST-MODIFIED:20260406T160403Z
UID:9423-1787875200-1788134399@descubrelosrios.cl
SUMMARY:Sur Mujer 2026 “Energía Consciente”
DESCRIPTION:El Encuentro Sur Mujer 2026 se realizará en el Parque Saval de Valdivia entre el 28 al 30  de agosto\, bajo el lema “Energía Consciente”. La programación incluye charlas\, paneles\, actividades artísticas y la tradicional Feria Sur Mujer\, que visibiliza emprendimientos femeninos de la Región de Los Ríos con apoyo institucional. \nCon más de quince años de trayectoria\, Sur Mujer se consolida como un referente cultural y comunitario del sur de Chile\, promoviendo la creatividad\, el emprendimiento y la participación ciudadana en un espacio de encuentro diverso y enriquecedor.
URL:https://descubrelosrios.cl/event/sur-mujer-2026-energia-consciente/
LOCATION:Centro de Ferias Parque Saval\, Parque Saval 1\, VALDIVIA\, Chile
CATEGORIES:Eventos
ATTACH;FMTTYPE=image/png:https://descubrelosrios.cl/wp-content/uploads/2026/04/Captura-de-pantalla-2026-04-06-115534.png
END:VEVENT
BEGIN:VEVENT
DTSTART;VALUE=DATE:20261012
DTEND;VALUE=DATE:20261019
DTSTAMP:20260419T201857
CREATED:20260209T203246Z
LAST-MODIFIED:20260209T203246Z
UID:9195-1791763200-1792367999@descubrelosrios.cl
SUMMARY:33° FESTIVAL INTERNACIONAL DE CINE DE VALDIVIA
DESCRIPTION:Es uno de los festivales de cine más relevantes de Chile y Latinoamérica\, enfocado en cine de autor\, independiente y de vanguardia\, mostrando una amplia programación de largometrajes\, cortometrajes\, documentales\, animación y cine experimental\, tanto nacional como internacional. Además ofrece actividades paralelas\, encuentros y espacios de industria.
URL:https://descubrelosrios.cl/event/33-festival-internacional-de-cine-de-valdivia/
LOCATION:Varios Lugares\, Valdivia\, Valdivia\, Chile
ATTACH;FMTTYPE=image/png:https://descubrelosrios.cl/wp-content/uploads/2026/02/Sin-titulo-5-x-3-cm-51.png
END:VEVENT
BEGIN:VEVENT
DTSTART;VALUE=DATE:20261017
DTEND;VALUE=DATE:20261019
DTSTAMP:20260419T201857
CREATED:20260121T193924Z
LAST-MODIFIED:20260121T193929Z
UID:8838-1792195200-1792367999@descubrelosrios.cl
SUMMARY:Huellelhue Trail Challenge 2da Versión
DESCRIPTION:La segunda versión del Huellelhue Trail Challenge vibra con la energía de corredores y amantes de la naturaleza que se enfrentan a un recorrido desafiante y lleno de paisajes únicos. Más que una competencia\, es una experiencia que celebra la vida sana\, el turismo local y el espíritu de superación\, consolidándose como un referente deportivo y comunitario en la región.
URL:https://descubrelosrios.cl/event/huellelhue-trail-challenge-2da-version/
LOCATION:H Mercado – Fundo Buena Ventura\,\, Huellelhue\, Valdivia\, Chile
CATEGORIES:Evento Deportivo
ATTACH;FMTTYPE=image/png:https://descubrelosrios.cl/wp-content/uploads/2026/01/Captura-de-pantalla-2026-01-21-163802.png
END:VEVENT
BEGIN:VEVENT
DTSTART;VALUE=DATE:20261021
DTEND;VALUE=DATE:20261025
DTSTAMP:20260419T201857
CREATED:20260223T183631Z
LAST-MODIFIED:20260223T183631Z
UID:9268-1792540800-1792886399@descubrelosrios.cl
SUMMARY:CONGRESO  SOCIEDAD CHILENA DE UROLOGIA
DESCRIPTION:Este año\, el Congreso anual de la Sociedad Chilena de Urologia ( SCHU) se celebrará en la ciudad de Valdivia\, del 21 al 24 de octubre de 2026. Este importante encuentro incluirá actividades académicas con conferencias\, simposios\, talleres y sesiones científicas\, dirigidos a urólogos y profesionales de la salud.
URL:https://descubrelosrios.cl/event/congreso-sociedad-chilena-de-urologia/
LOCATION:Hotel Dreams Valdivia
CATEGORIES:Congreso
ATTACH;FMTTYPE=image/png:https://descubrelosrios.cl/wp-content/uploads/2026/02/Sin-titulo-5-x-3-cm-58.png
END:VEVENT
BEGIN:VEVENT
DTSTART;VALUE=DATE:20261022
DTEND;VALUE=DATE:20261025
DTSTAMP:20260419T201857
CREATED:20260223T185302Z
LAST-MODIFIED:20260223T185302Z
UID:9274-1792627200-1792886399@descubrelosrios.cl
SUMMARY:III CONGRESO SOCHIFO
DESCRIPTION:Este congreso tiende a ser una instancia académico-científica en la que profesionales\, docentes\, estudiantes e investigadores de fonoaudiología presentan trabajos\, participan en talleres y mesas temáticas\, y comparten avances de investigación y prácticas clínicas relevantes en el país. Esto se basa en el perfil de ediciones previas del congreso de la sociedad.
URL:https://descubrelosrios.cl/event/iii-congreso-sochifo/
LOCATION:Universidad San Sebastián\, sede Valdivia\, General Lagos 1163\, Valdivia\, Valdivia\, Chile
ATTACH;FMTTYPE=image/png:https://descubrelosrios.cl/wp-content/uploads/2026/02/Sin-titulo-5-x-3-cm-59.png
END:VEVENT
BEGIN:VEVENT
DTSTART;VALUE=DATE:20261029
DTEND;VALUE=DATE:20261102
DTSTAMP:20260419T201857
CREATED:20260211T162648Z
LAST-MODIFIED:20260211T162654Z
UID:9204-1793232000-1793577599@descubrelosrios.cl
SUMMARY:Sabores y Sensaciones del Ranco 2026
DESCRIPTION:La feria Sabores y Sensaciones del Ranco se ha consolidado como el principal encuentro gastronómico y cultural de la Cuenca del Lago Ranco. Realizada en Futrono\, reúne a productores\, artesanos y emprendedores locales en un espacio que celebra la identidad regional a través de la cocina\, la música y las tradiciones. Con más de una década de trayectoria\, el evento destaca por su aporte al turismo y al fortalecimiento del patrimonio cultural\, convirtiéndose en una vitrina de sabores auténticos y experiencias únicas para visitantes nacionales e internacionales.
URL:https://descubrelosrios.cl/event/sabores-y-sensaciones-del-ranco-2026/
LOCATION:Complejo Turístico Bahía Coique\, Futrono\, Del Ranco\, Chile
CATEGORIES:Feria
ATTACH;FMTTYPE=image/png:https://descubrelosrios.cl/wp-content/uploads/2026/02/Captura-de-pantalla-2026-02-11-132501.png
END:VEVENT
BEGIN:VEVENT
DTSTART;VALUE=DATE:20261101
DTEND;VALUE=DATE:20261102
DTSTAMP:20260419T201857
CREATED:20260209T185740Z
LAST-MODIFIED:20260209T185740Z
UID:9163-1793491200-1793577599@descubrelosrios.cl
SUMMARY:L Étape Chile
DESCRIPTION:L’Étape Chile es un evento de ciclismo amateur oficial del Tour de France\, que permite a ciclistas aficionados vivir la experiencia de una etapa profesional.Se realizará en Niebla / Valdivia\, Región de Los Ríos\, y forma parte de las L’Étape Series\, presentes en más de 25 países \n\n\n📍 Lugar: Región de Los Ríos (zona costera Valdivia–Niebla) \n\n\n🚴 Distancias: 30 km\, 60 km y 110 km \n\n\n🛣️ Formato: rutas cerradas\, cronometraje oficial y estándar Tour de France
URL:https://descubrelosrios.cl/event/l-etape-chile/
LOCATION:Parque SAVAL y Costa Valdiviana\, Valdivia\, Valdivia\, Chile
ATTACH;FMTTYPE=image/png:https://descubrelosrios.cl/wp-content/uploads/2026/02/Sin-titulo-5-x-3-cm-45.png
END:VEVENT
BEGIN:VEVENT
DTSTART;VALUE=DATE:20261101
DTEND;VALUE=DATE:20261109
DTSTAMP:20260419T201857
CREATED:20260209T192724Z
LAST-MODIFIED:20260209T192840Z
UID:9169-1793491200-1794182399@descubrelosrios.cl
SUMMARY:HUILO HUILO FESTIVAL
DESCRIPTION:Este es un festival musical internacional de música clásica y de cuerda que se realiza en la Reserva Biológica Huilo Huilo\, comuna de Panguipulli\, en la Patagonia chilena. \nSe trata de un festival de perfeccionamiento musical dirigido a jóvenes músicos con talento que buscan desarrollar su carrera profesional que combina talleres\, ensayos\, trabajo en conjunto y conciertos\, con la naturaleza como contexto inspirador\, integrando también actividades de desarrollo profesional y conexión con la comunidad local. \nLos participantes trabajan con músicos profesionales de la Brussels Philharmonic\, quienes guían las actividades formativas.
URL:https://descubrelosrios.cl/event/huilo-huilo-festival/
LOCATION:Reserva Biológica Huilo Huilo\, Carretera Internacional CH 203\, km 55 s/n\, PANGUIPULLI\, Valdivia\, Chile
ATTACH;FMTTYPE=image/png:https://descubrelosrios.cl/wp-content/uploads/2026/02/Sin-titulo-5-x-3-cm-46.png
END:VEVENT
BEGIN:VEVENT
DTSTART;VALUE=DATE:20261102
DTEND;VALUE=DATE:20261103
DTSTAMP:20260419T201857
CREATED:20260326T205156Z
LAST-MODIFIED:20260326T205216Z
UID:9395-1793577600-1793663999@descubrelosrios.cl
SUMMARY:Conferencia 9.5 tecnología y futuro del trabajo
DESCRIPTION:El 9punto5 es una conferencia internacional que se celebra en Valdivia y que aborda la tecnología\, la innovación y el futuro del trabajo. Reúne a profesionales\, emprendedores y estudiantes en torno a charlas\, paneles y talleres que exploran temas como la inteligencia artificial\, el trabajo remoto y la cultura organizacional. \nCon una asistencia aproximada de 400 a 500 personas\, el evento se consolida como un referente en Chile y Latinoamérica\, ofreciendo un espacio de aprendizaje\, colaboración y networking en un entorno inspirador junto al río Calle-Calle.
URL:https://descubrelosrios.cl/event/conferencia-9-5-tecnologia-y-futuro-del-trabajo/
LOCATION:Salón de eventos hotel Villa del Rio\, Ave España 1025\, Valdivia\, Chile
CATEGORIES:Seminario
ATTACH;FMTTYPE=image/png:https://descubrelosrios.cl/wp-content/uploads/2026/03/Captura-de-pantalla-2026-03-26-154236.png
END:VEVENT
END:VCALENDAR