BEGIN:VCALENDAR
VERSION:2.0
PRODID:-// - ECPv6.15.14//NONSGML v1.0//EN
CALSCALE:GREGORIAN
METHOD:PUBLISH
X-ORIGINAL-URL:https://descubrelosrios.cl
X-WR-CALDESC:Eventos para 
REFRESH-INTERVAL;VALUE=DURATION:PT1H
X-Robots-Tag:noindex
X-PUBLISHED-TTL:PT1H
BEGIN:VTIMEZONE
TZID:UTC
BEGIN:STANDARD
TZOFFSETFROM:+0000
TZOFFSETTO:+0000
TZNAME:UTC
DTSTART:20250101T000000
END:STANDARD
END:VTIMEZONE
BEGIN:VEVENT
DTSTART;VALUE=DATE:20260102
DTEND;VALUE=DATE:20260223
DTSTAMP:20260419T222259
CREATED:20260119T153021Z
LAST-MODIFIED:20260119T153021Z
UID:8639-1767312000-1771804799@descubrelosrios.cl
SUMMARY:FERIAS COSTUMBRISTAS EN LOCALIDADES DE PANGUIPULLI
DESCRIPTION:  \n🍀 Este verano 2026\, Panguipulli Sietelagos invita a vivir una experiencia auténtica a través de sus ferias costumbristas y creación local\, producción campesina\, gastronomía típica y desarrollo económico con identidad.
URL:https://descubrelosrios.cl/event/ferias-costumbristas-en-localidades-de-panguipulli/
LOCATION:Liquiñe / Neltume / Calafquén / Coz – Coz / Pirehueico / Puerto Fuy / Traitraico / Río Hueico / Choshuenco / Coñaripe / Panguipulli\, PANGUIPULLI\, Valdivia\, Chile
ATTACH;FMTTYPE=image/png:https://descubrelosrios.cl/wp-content/uploads/2026/01/Sin-titulo-5-x-3-cm-9-1.png
END:VEVENT
BEGIN:VEVENT
DTSTART;VALUE=DATE:20260102
DTEND;VALUE=DATE:20260301
DTSTAMP:20260419T222259
CREATED:20260115T022519Z
LAST-MODIFIED:20260115T022526Z
UID:8425-1767312000-1772323199@descubrelosrios.cl
SUMMARY:Feria Costumbrista Gastronómica Espacio Costanera Panguipulli
DESCRIPTION:La Feria Costumbrista Gastronómica Espacio Costanera es una cita imperdible en Panguipulli\, donde sabores tradicionales\, música y artesanías se mezclan frente al lago para ofrecer una experiencia única. Entre platos típicos\, productos locales y un ambiente festivo\, la feria invita a disfrutar la identidad cultural de la Región de Los Ríos en un entorno lleno de vida y tradición.
URL:https://descubrelosrios.cl/event/feria-costumbrista-gastronomica-espacio-costanera-panguipulli/
LOCATION:Costanera Panguipulli\, PANGUIPULLI\, Valdivia\, Chile
CATEGORIES:Feria
ATTACH;FMTTYPE=image/png:https://descubrelosrios.cl/wp-content/uploads/2026/01/Captura-de-pantalla-2026-01-14-232300.png
END:VEVENT
BEGIN:VEVENT
DTSTART;VALUE=DATE:20260102
DTEND;VALUE=DATE:20260301
DTSTAMP:20260419T222259
CREATED:20260120T202055Z
LAST-MODIFIED:20260120T202055Z
UID:8779-1767312000-1772323199@descubrelosrios.cl
SUMMARY:FERIA COSTUMBRISTA TRAYENCO
DESCRIPTION:✨ Vive la tradición en la Feria Costumbrista Trayenko – Liquiñe ✨ \nGastronomía típica\, artesanía local y cultura mapuche en un entorno único de la cordillera.¡Ven a disfrutar de nuestras costumbres\, sabores y tradiciones!
URL:https://descubrelosrios.cl/event/feria-costumbrista-trayenco/
LOCATION:Espacio Feria Trayenco\, Ruta CH-201 S/N\, Liquiñe\, Valdivia\, Chile
ATTACH;FMTTYPE=image/png:https://descubrelosrios.cl/wp-content/uploads/2026/01/Sin-titulo-5-x-3-cm-21.png
END:VEVENT
BEGIN:VEVENT
DTSTART;VALUE=DATE:20260102
DTEND;VALUE=DATE:20260302
DTSTAMP:20260419T222259
CREATED:20260120T200907Z
LAST-MODIFIED:20260120T200907Z
UID:8758-1767312000-1772409599@descubrelosrios.cl
SUMMARY:FERIA ARTESANAL PARQUE KUMUN NELTUME
DESCRIPTION:✨ Feria artesanal en Parque Kümun – Neltume ✨Ven a descubrir creaciones hechas a mano por artesanas y artesanos locales\, inspiradas en el bosque y la cultura del territorio 🌲🪵🧶Un espacio para recorrer\, aprender y apoyar el trabajo local.
URL:https://descubrelosrios.cl/event/feria-artesanal-parque-kumun-neltume/
LOCATION:Parque Kumun\, ruta internacional CH-203 S/N\, Neltume\, Valdivia\, Chile
ATTACH;FMTTYPE=image/png:https://descubrelosrios.cl/wp-content/uploads/2026/01/Sin-titulo-5-x-3-cm-20.png
END:VEVENT
BEGIN:VEVENT
DTSTART;VALUE=DATE:20260102
DTEND;VALUE=DATE:20260303
DTSTAMP:20260419T222259
CREATED:20260114T170048Z
LAST-MODIFIED:20260115T183847Z
UID:8360-1767312000-1772495999@descubrelosrios.cl
SUMMARY:Feria Costumbrista Gastronómica Paillalafquen Coñaripe
DESCRIPTION:La Feria Gastronómica Costumbrista Paillalafquén en Coñaripe es un encuentro anual que celebra la identidad local a través de la cocina tradicional\, la música y las artesanías\, convirtiéndose en un atractivo imperdible para residentes y visitantes de la Región de Los Ríos.
URL:https://descubrelosrios.cl/event/feria-costumbrista-gastronomica-paillalafquen-conaripe/
LOCATION:Coñaripe\, Calle las Tepas s/n\, Coñaripe\, Chile
CATEGORIES:Feria
ATTACH;FMTTYPE=image/png:https://descubrelosrios.cl/wp-content/uploads/2026/01/Captura-de-pantalla-2026-01-14-224538.png
END:VEVENT
BEGIN:VEVENT
DTSTART;VALUE=DATE:20260103
DTEND;VALUE=DATE:20260301
DTSTAMP:20260419T222259
CREATED:20260115T023531Z
LAST-MODIFIED:20260115T023534Z
UID:8430-1767398400-1772323199@descubrelosrios.cl
SUMMARY:Muestra Costumbrista Gastronómica Entre Montañas Panguipulli
DESCRIPTION:La Muestra Costumbrista Gastronómica Entre Montañas en Panguipulli invita a disfrutar de la cocina tradicional\, la música y las artesanías en un entorno natural único. Es una celebración que rescata sabores auténticos y la identidad cultural de la zona lacustre\, convirtiéndose en un punto de encuentro lleno de vida\, tradición y comunidad.
URL:https://descubrelosrios.cl/event/muestra-costumbrista-gastronomica-entre-montanas-panguipulli/
LOCATION:Camino internacional Frente a Aventura Rucapillan\, Neltume\, Neltume\, Chile
CATEGORIES:Feria
ATTACH;FMTTYPE=image/png:https://descubrelosrios.cl/wp-content/uploads/2026/01/Captura-de-pantalla-2026-01-14-233316.png
END:VEVENT
BEGIN:VEVENT
DTSTART;VALUE=DATE:20260103
DTEND;VALUE=DATE:20260316
DTSTAMP:20260419T222259
CREATED:20260115T024311Z
LAST-MODIFIED:20260115T024315Z
UID:8435-1767398400-1773619199@descubrelosrios.cl
SUMMARY:Feria Costumbrista Gastronómica Galpón Gastronómico Puerto Fuy
DESCRIPTION:La Feria Costumbrista Gastronómica en Puerto Fuy es la oportunidad perfecta para disfrutar de sabores tradicionales\, música en vivo y artesanías locales en un entorno único junto al lago. Un espacio lleno de vida y cultura que invita a compartir\, degustar y descubrir lo mejor de la identidad de la Región de Los Ríos. ¡Una experiencia imperdible para quienes buscan tradición y encanto en la montaña!
URL:https://descubrelosrios.cl/event/feria-costumbrista-gastronomica-galpon-gastronomico-puerto-fuy/
LOCATION:Camino internacional Puerto Fuy\, Puerto Fuy\, Chile
CATEGORIES:Feria
ATTACH;FMTTYPE=image/png:https://descubrelosrios.cl/wp-content/uploads/2026/01/Captura-de-pantalla-2026-01-14-234209.png
END:VEVENT
BEGIN:VEVENT
DTSTART;TZID=UTC:20260103T120000
DTEND;TZID=UTC:20260301T210000
DTSTAMP:20260419T222259
CREATED:20251231T152443Z
LAST-MODIFIED:20260107T170701Z
UID:7696-1767441600-1772398800@descubrelosrios.cl
SUMMARY:Muestra Costumbrista de Punucapa
DESCRIPTION:Este encuentro es una celebración de las tradiciones rurales del territorio\, ideal para disfrutar en familia\, degustar sabores locales y conectar con la identidad cultural de la Región de Los Ríos. Donde la gastronomía típica\, la artesanía local y la música tradicional se unen en un entorno natural único.
URL:https://descubrelosrios.cl/event/muestra-costumbrista-de-punucapa/
LOCATION:Recinto Ferial Punucapa\, Punucapa\, Valdivia\, Región de Los Ríos\, Chile
CATEGORIES:Eventos
ATTACH;FMTTYPE=image/png:https://descubrelosrios.cl/wp-content/uploads/2025/12/Punucapa.png
END:VEVENT
BEGIN:VEVENT
DTSTART;VALUE=DATE:20260104
DTEND;VALUE=DATE:20260223
DTSTAMP:20260419T222259
CREATED:20260114T201749Z
LAST-MODIFIED:20260114T201809Z
UID:8367-1767484800-1771804799@descubrelosrios.cl
SUMMARY:Mercadito campesino casona cultural
DESCRIPTION:El Mercadito Campesino Cultural de Panguipulli es un espacio que reúne a productores locales\, artesanos y emprendedores\, ofreciendo alimentos frescos\, artesanías y actividades culturales que fortalecen la identidad territorial y promueven el turismo comunitario.
URL:https://descubrelosrios.cl/event/mercadito-campesino-casona-cultural/
LOCATION:Jardines de la casona cultural\, O´ higgins s/n\, Panguipulli\, Chile
CATEGORIES:Feria
ATTACH;FMTTYPE=image/jpeg:https://descubrelosrios.cl/wp-content/uploads/2026/01/Mercadito.jpeg
END:VEVENT
BEGIN:VEVENT
DTSTART;VALUE=DATE:20260104
DTEND;VALUE=DATE:20260228
DTSTAMP:20260419T222259
CREATED:20260115T030125Z
LAST-MODIFIED:20260115T030130Z
UID:8440-1767484800-1772236799@descubrelosrios.cl
SUMMARY:Mercadito Trafuwun Calafquen
DESCRIPTION:El Mercadito Trafuwun Calafquén es un espacio lleno de vida donde productores y artesanos locales ofrecen sabores auténticos\, productos frescos y creaciones con identidad territorial. Rodeado por la belleza del Lago Calafquén\, invita a disfrutar la tradición\, la cultura y el espíritu comunitario en un ambiente cercano y festivo.
URL:https://descubrelosrios.cl/event/mercadito-trafuwun-calafquen/
LOCATION:Calafquen\, Panguipulli\, Chile
CATEGORIES:Feria
ATTACH;FMTTYPE=image/png:https://descubrelosrios.cl/wp-content/uploads/2026/01/Captura-de-pantalla-2026-01-14-235129.png
END:VEVENT
BEGIN:VEVENT
DTSTART;VALUE=DATE:20260105
DTEND;VALUE=DATE:20260224
DTSTAMP:20260419T222259
CREATED:20260115T033047Z
LAST-MODIFIED:20260115T033052Z
UID:8456-1767571200-1771891199@descubrelosrios.cl
SUMMARY:Feria Comunahue Gastronómica Estival
DESCRIPTION:La Feria Comunahue Gastronómica Estival constituye un espacio de encuentro comunitario orientado a la promoción de la identidad cultural y culinaria de la zona. En un ambiente veraniego\, la actividad reúne a emprendedores\, familias y visitantes en torno a la cocina tradicional\, los productos locales y las expresiones artísticas\, fortaleciendo el patrimonio cultural y el desarrollo turístico de la comuna.
URL:https://descubrelosrios.cl/event/feria-comunahue-gastronomica-estival/
LOCATION:TRAITRAICO ALTO KM 1\,8\, TRAITRAICO ALTO KM 1\,8\, Panguipulli\, Chile
CATEGORIES:Feria
ATTACH;FMTTYPE=image/png:https://descubrelosrios.cl/wp-content/uploads/2026/01/Captura-de-pantalla-2026-01-15-002950.png
END:VEVENT
BEGIN:VEVENT
DTSTART;VALUE=DATE:20260105
DTEND;VALUE=DATE:20260301
DTSTAMP:20260419T222259
CREATED:20260115T031315Z
LAST-MODIFIED:20260115T031320Z
UID:8446-1767571200-1772323199@descubrelosrios.cl
SUMMARY:Feria Gastronómica Colotue
DESCRIPTION:La Feria Gastronómica Colotué es una invitación a saborear la tradición en un ambiente festivo y cercano. Con platos típicos\, productos locales y el calor de la comunidad\, se convierte en un punto de encuentro imperdible para disfrutar la identidad cultural y el encanto de la zona.
URL:https://descubrelosrios.cl/event/feria-gastronomica-colotue/
LOCATION:Camino internacional Rio Huieco\, Camino internacional Rio Huieco\, Neltume\, Chile
CATEGORIES:Feria
ATTACH;FMTTYPE=image/png:https://descubrelosrios.cl/wp-content/uploads/2026/01/Captura-de-pantalla-2026-01-15-001210.png
END:VEVENT
BEGIN:VEVENT
DTSTART;VALUE=DATE:20260105
DTEND;VALUE=DATE:20260308
DTSTAMP:20260419T222259
CREATED:20260115T032154Z
LAST-MODIFIED:20260115T032158Z
UID:8451-1767571200-1772927999@descubrelosrios.cl
SUMMARY:Feria Costumbrista Gastronómica Borde Lago Panguipulli
DESCRIPTION:La Feria Costumbrista Gastronómica Borde Lago de Panguipulli constituye un espacio de encuentro comunitario que promueve la identidad cultural y gastronómica de la zona lacustre. En un entorno privilegiado frente al Lago Panguipulli\, la actividad reúne a emprendedores locales\, visitantes y familias en torno a la cocina tradicional\, las artesanías y las expresiones artísticas\, fortaleciendo el patrimonio cultural y el desarrollo turístico de la comuna.
URL:https://descubrelosrios.cl/event/feria-costumbrista-gastronomica-borde-lago-panguipulli/
LOCATION:Martinez de rozas 303\, Panguipulli\, Martinez de rozas 303\, Panguipulli\, Chile
CATEGORIES:Feria
ATTACH;FMTTYPE=image/png:https://descubrelosrios.cl/wp-content/uploads/2026/01/Captura-de-pantalla-2026-01-15-002059.png
END:VEVENT
BEGIN:VEVENT
DTSTART;TZID=UTC:20260110T120000
DTEND;TZID=UTC:20260310T000000
DTSTAMP:20260419T222259
CREATED:20251231T143844Z
LAST-MODIFIED:20260107T170618Z
UID:7682-1768046400-1773100800@descubrelosrios.cl
SUMMARY:Muestra Costumbrista Caleta el Piojo - Niebla
DESCRIPTION:La Muestra Costumbrista Caleta El Piojo invita a vivir las tradiciones del borde costero\, con gastronomía típica\, oficios locales y expresiones culturales que reflejan la identidad y el patrimonio del territorio.
URL:https://descubrelosrios.cl/event/muestra-costumbrista-caleta-el-piojo-niebla/
LOCATION:Caleta el Piojo – Niebla\, Niebla\, Valdivia\, Región de Los Ríos\, Chile
CATEGORIES:Eventos
ATTACH;FMTTYPE=image/png:https://descubrelosrios.cl/wp-content/uploads/2025/12/Caleta-el-piojo.png
END:VEVENT
BEGIN:VEVENT
DTSTART;VALUE=DATE:20260116
DTEND;VALUE=DATE:20260223
DTSTAMP:20260419T222259
CREATED:20260119T143143Z
LAST-MODIFIED:20260119T143307Z
UID:8620-1768521600-1771804799@descubrelosrios.cl
SUMMARY:FERIA DE AGRUPACION DE MICROEMPRENDEDORES NAMUN ALKA - HUITAG
DESCRIPTION:Te invitamos a participar de una feria que promueve el trabajo\, el emprendimiento y la economía local. Un espacio para conocer\, apoyar y valorar la producción de nuestros micro emprendedores. \n🛍️ Productos locales🤝 Emprendimientos de la comunidad🌱 Trabajo y desarrollo local \n¡Te esperamos!
URL:https://descubrelosrios.cl/event/feria-de-agrupacion-de-microemprendedores-namun-alka-huitag/
LOCATION:Cruce sector Huitag\, Panguipulli\, Valdivia\, Chile
ATTACH;FMTTYPE=image/png:https://descubrelosrios.cl/wp-content/uploads/2026/01/Sin-titulo-5-x-3-cm-6-1.png
END:VEVENT
BEGIN:VEVENT
DTSTART;VALUE=DATE:20260131
DTEND;VALUE=DATE:20260209
DTSTAMP:20260419T222259
CREATED:20260120T201258Z
LAST-MODIFIED:20260120T201303Z
UID:8770-1769817600-1770595199@descubrelosrios.cl
SUMMARY:Copa de Verano Interregional Molino Kunstmann 2026.
DESCRIPTION:La Copa de Verano Interregional Molino Kunstmann 2026 se consolida como un evento deportivo de relevancia en la Región de Los Ríos\, reuniendo a equipos provenientes de distintas localidades en un ambiente competitivo y de integración. El campeonato busca fortalecer el desarrollo del fútbol amateur\, promoviendo valores de disciplina\, respeto y camaradería\, además de proyectar a Valdivia como sede de encuentros deportivos de calidad. \nMás que una competencia\, esta copa constituye un espacio de encuentro comunitario y de intercambio cultural\, que fomenta la práctica deportiva y contribuye al posicionamiento de la ciudad como referente en la organización de torneos interregionales.
URL:https://descubrelosrios.cl/event/copa-de-verano-interregional-molino-kunstmann-2026/
LOCATION:Estadio Municipal\, Pedro Montt 465\, Valdivia\, Chile
CATEGORIES:Evento Deportivo
ATTACH;FMTTYPE=image/png:https://descubrelosrios.cl/wp-content/uploads/2026/01/Captura-de-pantalla-2026-01-20-171201.png
END:VEVENT
BEGIN:VEVENT
DTSTART;VALUE=DATE:20260131
DTEND;VALUE=DATE:20260304
DTSTAMP:20260419T222259
CREATED:20260115T020717Z
LAST-MODIFIED:20260115T020723Z
UID:8415-1769817600-1772582399@descubrelosrios.cl
SUMMARY:Travesía nocturna en Kayak
DESCRIPTION:La Travesía Nocturna en Kayak de Tres Canelos en Valdivia ofrece una experiencia única para recorrer ríos y humedales bajo la luz de la luna\, combinando deporte\, naturaleza y turismo sustentable en un entorno mágico. Una escapada desde la playa de Collico hasta los Castaños que no olvidaras.
URL:https://descubrelosrios.cl/event/travesia-nocturna-en-kayak/
LOCATION:playa de Collico\, VALDIVIA\, LOS RIOS\, Chile
ATTACH;FMTTYPE=image/png:https://descubrelosrios.cl/wp-content/uploads/2026/01/Captura-de-pantalla-2026-01-14-230515.png
END:VEVENT
BEGIN:VEVENT
DTSTART;VALUE=DATE:20260201
DTEND;VALUE=DATE:20260301
DTSTAMP:20260419T222259
CREATED:20251223T231217Z
LAST-MODIFIED:20260108T120800Z
UID:7640-1769904000-1772323199@descubrelosrios.cl
SUMMARY:Feria de Turismo y Cultura
DESCRIPTION:Encuentro de artesanos\, músicos y del patrimonio cultural de la Provincia del Ranco.
URL:https://descubrelosrios.cl/event/feria-de-turismo-y-cultura/
LOCATION:La Unión\, La Unión\, La Unión\, Los Ríos\, 5220000\, Chile
CATEGORIES:Eventos,Feria
ATTACH;FMTTYPE=image/jpeg:https://descubrelosrios.cl/wp-content/uploads/2025/12/DJI_20250807101438_0166_D-scaled.jpg
END:VEVENT
BEGIN:VEVENT
DTSTART;VALUE=DATE:20260205
DTEND;VALUE=DATE:20260208
DTSTAMP:20260419T222259
CREATED:20260205T154221Z
LAST-MODIFIED:20260205T154228Z
UID:9117-1770249600-1770508799@descubrelosrios.cl
SUMMARY:XIV versión fiesta de la cerveza artesanal costera de corral
DESCRIPTION:La XIV versión de la Fiesta Costera de la Cerveza Artesanal de Corral se realiza este verano 2026\, organizada por la Municipalidad de Corral\, reuniendo a cerveceros locales y regionales en un evento que celebra la tradición\, la gastronomía y la identidad costera.
URL:https://descubrelosrios.cl/event/xiv-version-fiesta-de-la-cerveza-artesanal-costera-de-corral/
LOCATION:Ex cancha de acopio de la Comuna de corral\, Corral\, Chile
CATEGORIES:Feria
ATTACH;FMTTYPE=image/png:https://descubrelosrios.cl/wp-content/uploads/2026/02/Captura-de-pantalla-2026-02-05-124106.png
END:VEVENT
BEGIN:VEVENT
DTSTART;VALUE=DATE:20260205
DTEND;VALUE=DATE:20260209
DTSTAMP:20260419T222259
CREATED:20251223T231007Z
LAST-MODIFIED:20251230T203319Z
UID:7638-1770249600-1770595199@descubrelosrios.cl
SUMMARY:Ranco Diseño
DESCRIPTION:Espacio que celebra la creatividad\, el diseño y la identidad local. Un encuentro donde diseñadores\, artesanos y creadores se reúnen a orillas del lago para mostrar propuestas únicas\, inspiradas en el territorio\, la naturaleza y los oficios contemporáneos. Una invitación a descubrir talento\, innovación y estilo en un entorno incomparable.
URL:https://descubrelosrios.cl/event/ranco-diseno/
LOCATION:Costanera Lago Ranco\, Lago Ranco\, Región de Los Ríos
CATEGORIES:Eventos,Feria
ATTACH;FMTTYPE=image/jpeg:https://descubrelosrios.cl/wp-content/uploads/2025/12/Ranco-diseno.jpg
END:VEVENT
BEGIN:VEVENT
DTSTART;VALUE=DATE:20260205
DTEND;VALUE=DATE:20260209
DTSTAMP:20260419T222259
CREATED:20260203T195354Z
LAST-MODIFIED:20260203T195354Z
UID:9044-1770249600-1770595199@descubrelosrios.cl
SUMMARY:BIERFEST MARIQUINA
DESCRIPTION:🍻 Bierfest Mariquina 🍻 \nCerveza artesanal\, buena música y el mejor ambiente del sur 🌲✨ \n¡Nos vemos para brindar\, disfrutar y pasarlo increíble!
URL:https://descubrelosrios.cl/event/bierfest-mariquina/
LOCATION:Skate Park de Mariquina\, Mariquina\, Valdivia\, Chile
ATTACH;FMTTYPE=image/png:https://descubrelosrios.cl/wp-content/uploads/2026/02/Sin-titulo-5-x-3-cm-35.png
END:VEVENT
BEGIN:VEVENT
DTSTART;VALUE=DATE:20260205
DTEND;VALUE=DATE:20260209
DTSTAMP:20260419T222259
CREATED:20260203T210250Z
LAST-MODIFIED:20260203T210250Z
UID:9091-1770249600-1770595199@descubrelosrios.cl
SUMMARY:EXPO BICOMUNAL FUTRONO -LAGO RANCO
DESCRIPTION:La Expo Bicomunal Futrono – Lago Ranco es una feria que une a ambas comunas de la Región de Los Ríos para mostrar emprendimientos locales\, artesanía\, gastronomía y cultura. Se realiza como un espacio de encuentro comunitario y turístico\, fortaleciendo la identidad y colaboración del territorio del Lago Ranco.
URL:https://descubrelosrios.cl/event/expo-bicomunal-futrono-lago-ranco/
LOCATION:Paseo Alessandri\, Futrono\, Ranco\, Chile
ATTACH;FMTTYPE=image/png:https://descubrelosrios.cl/wp-content/uploads/2026/02/Sin-titulo-5-x-3-cm-39.png
END:VEVENT
BEGIN:VEVENT
DTSTART;VALUE=DATE:20260205
DTEND;VALUE=DATE:20260209
DTSTAMP:20260419T222259
CREATED:20260206T142942Z
LAST-MODIFIED:20260206T142942Z
UID:9126-1770249600-1770595199@descubrelosrios.cl
SUMMARY:RANCO DISEÑO VERANO 2026
DESCRIPTION:Es una feria de diseño y creatividad que se realiza en Lago Ranco\, durante febrero 2026. Reúne a diseñadores\, artesanos y creadores locales\, con foco en identidad territorial\, naturaleza y oficios contemporáneos. \nArtesanía\, moda\, objetos únicos\, gastronomía y música en vivo.📍 Lago Ranco | 🎨 Entrada liberada
URL:https://descubrelosrios.cl/event/ranco-diseno-verano-2026/
LOCATION:Costanera Lago Ranco y Alrededores\, Lago Ranco\, Ranco\, Chile
ATTACH;FMTTYPE=image/png:https://descubrelosrios.cl/wp-content/uploads/2026/02/Sin-titulo-5-x-3-cm-40.png
END:VEVENT
BEGIN:VEVENT
DTSTART;VALUE=DATE:20260206
DTEND;VALUE=DATE:20260208
DTSTAMP:20260419T222259
CREATED:20260121T191836Z
LAST-MODIFIED:20260121T191856Z
UID:8832-1770336000-1770508799@descubrelosrios.cl
SUMMARY:CLÍNICA DE ARQUEROS INCLUSIVA PARA NIÑOS Y NIÑAS.
DESCRIPTION:La Clínica de Arqueros Inclusiva para Niños y Niñas se realiza como una instancia deportiva y formativa que promueve la participación infantil en un ambiente seguro y accesible. La actividad refuerza valores de inclusión\, igualdad y vida saludable\, consolidándose como un espacio de aprendizaje técnico y convivencia comunitaria.
URL:https://descubrelosrios.cl/event/clinica-de-arqueros-inclusiva-para-ninos-y-ninas/
LOCATION:Cancha Catrico\, Valdivia\, Chile
CATEGORIES:Evento Deportivo
ATTACH;FMTTYPE=image/png:https://descubrelosrios.cl/wp-content/uploads/2026/01/Captura-de-pantalla-2026-01-21-161744.png
END:VEVENT
BEGIN:VEVENT
DTSTART;VALUE=DATE:20260206
DTEND;VALUE=DATE:20260209
DTSTAMP:20260419T222259
CREATED:20260202T193934Z
LAST-MODIFIED:20260202T193934Z
UID:9033-1770336000-1770595199@descubrelosrios.cl
SUMMARY:VAPOR ENCO: UNA TRAVESÍA INFINITA
DESCRIPTION:El vapor Enco es un espectáculo multidisciplinar que nos habla de un pueblo\, de una época\, de un lago y de un vapor. Es una historia que va desde 1935 y hasta el año 1963. Narrada por niños y niñas junto al capitán Hans y su esposa Lena. Niños que intentan reconocerse en sus diferencias\, que siempre le encuentran la vuelta a todo y que deciden siempre soñar. \nCon música y canciones que evocan el pasado y nos trae la memoria de un pueblo. Un pueblo que se hizo hermano a bordo de un vapor.
URL:https://descubrelosrios.cl/event/vapor-enco-una-travesia-infinita/
LOCATION:Teatro educativo de las artes de Panguipulli\, Roberto Bravo 250\, Panguipulli\, Chile
ATTACH;FMTTYPE=image/png:https://descubrelosrios.cl/wp-content/uploads/2026/02/Sin-titulo-5-x-3-cm-33.png
END:VEVENT
BEGIN:VEVENT
DTSTART;VALUE=DATE:20260206
DTEND;VALUE=DATE:20260209
DTSTAMP:20260419T222259
CREATED:20260202T201059Z
LAST-MODIFIED:20260202T201059Z
UID:9036-1770336000-1770595199@descubrelosrios.cl
SUMMARY:RESCATE Y SABORES DE ALEPUE - EPUCO
DESCRIPTION:🌱 Rescate de Sabores de Alepúe–Epuco\, Mariquina \nVolvemos a la cocina de antes: recetas\, productos y saberes que nacen del mar\,  el campo y la memoria de nuestras comunidades. \nPorque la comida también cuenta quiénes somos.
URL:https://descubrelosrios.cl/event/rescate-y-sabores-de-alepue-epuco/
LOCATION:Sede Junta de Vecinos de Alepue Epuco\, alepue S/N\, Mariquina\, Valdivia\, Chile
ATTACH;FMTTYPE=image/png:https://descubrelosrios.cl/wp-content/uploads/2026/02/Sin-titulo-5-x-3-cm-34.png
END:VEVENT
BEGIN:VEVENT
DTSTART;VALUE=DATE:20260207
DTEND;VALUE=DATE:20260208
DTSTAMP:20260419T222259
CREATED:20260120T192233Z
LAST-MODIFIED:20260120T192233Z
UID:8740-1770422400-1770508799@descubrelosrios.cl
SUMMARY:FUTANGUE CHALLENGE
DESCRIPTION:FUTANGUE CHALLENGE by ASICS\, la carrera más hermosa de la Patagonia Norte regresa con una versión renovada Invitándote a vivir una experiencia única recorriendo senderos entre bosques\, volcanes y saltos de agua de los Andes patagónicos chilenos.
URL:https://descubrelosrios.cl/event/futangue-challenge/
LOCATION:Parque Futangue\, Ruta T-85 Km. 22\, Riñinahue\, Lago Ranco\, Ranco\, Chile
ATTACH;FMTTYPE=image/png:https://descubrelosrios.cl/wp-content/uploads/2026/01/Sin-titulo-5-x-3-cm-19.png
END:VEVENT
BEGIN:VEVENT
DTSTART;VALUE=DATE:20260207
DTEND;VALUE=DATE:20260208
DTSTAMP:20260419T222259
CREATED:20260120T202728Z
LAST-MODIFIED:20260120T202733Z
UID:8784-1770422400-1770508799@descubrelosrios.cl
SUMMARY:COPA VALDIVIA (GIMNASIA ARTÍSTICA) + CLÍNICA ENTRENADOR CHRISTIAN BRUNO
DESCRIPTION:La Copa Valdivia de Gimnasia Artística\, junto con la Clínica impartida por el entrenador Christian Bruno\, constituye una instancia deportiva y formativa de gran relevancia para la región. El torneo reúne a jóvenes talentos en un ambiente competitivo que promueve disciplina\, respeto y excelencia\, mientras que la clínica ofrece un espacio de aprendizaje técnico y metodológico\, orientado al perfeccionamiento de deportistas y entrenadores. \nEste doble encuentro fortalece la práctica de la gimnasia artística\, proyecta a Valdivia como sede de eventos de calidad y consolida la integración cultural y deportiva en la comunidad.
URL:https://descubrelosrios.cl/event/copa-valdivia-gimnasia-artistica-clinica-entrenador-christian-bruno/
LOCATION:Gimnasio Gil de Castro\, Gral Mackena\, esq Andrés Bello\, Valdivia\, Chile
CATEGORIES:Evento Deportivo
ATTACH;FMTTYPE=image/png:https://descubrelosrios.cl/wp-content/uploads/2026/01/Captura-de-pantalla-2026-01-20-172625.png
END:VEVENT
BEGIN:VEVENT
DTSTART;VALUE=DATE:20260207
DTEND;VALUE=DATE:20260208
DTSTAMP:20260419T222259
CREATED:20260120T204229Z
LAST-MODIFIED:20260120T204234Z
UID:8800-1770422400-1770508799@descubrelosrios.cl
SUMMARY:CAMPEONATO ABIERTO PARALÍMPICO DE TENIS DE MESA VERANO EN VALDIVIA
DESCRIPTION:El Campeonato Abierto Paralímpico de Tenis de Mesa – Verano en Valdivia constituye una instancia deportiva inclusiva de carácter competitivo\, que reúne a deportistas con diversas capacidades en un entorno seguro y accesible. La actividad promueve la práctica del tenis de mesa adaptado\, fortaleciendo valores de esfuerzo\, respeto y superación personal\, y proyecta a Valdivia como sede de eventos deportivos de calidad e integración.
URL:https://descubrelosrios.cl/event/campeonato-abierto-paralimpico-de-tenis-de-mesa-verano-en-valdivia/
LOCATION:Cancha techada Municipal\, Pedro Montt 465\, Valdivia\, Chile
CATEGORIES:Evento Deportivo
ATTACH;FMTTYPE=image/png:https://descubrelosrios.cl/wp-content/uploads/2026/01/Captura-de-pantalla-2026-01-20-174130.png
END:VEVENT
BEGIN:VEVENT
DTSTART;VALUE=DATE:20260207
DTEND;VALUE=DATE:20260208
DTSTAMP:20260419T222259
CREATED:20260121T201726Z
LAST-MODIFIED:20260121T201726Z
UID:8845-1770422400-1770508799@descubrelosrios.cl
SUMMARY:1° FESTIVAL ANIVERSARIO DE VALDIVIA
DESCRIPTION:Valdivia celebra su historia\, su cultura y su gente con un evento imperdible para toda la comunidad. Te invitamos a ser parte del Primer Festival Aniversario de Valdivia\, una jornada llena de música\, arte\, tradición y alegría!
URL:https://descubrelosrios.cl/event/1-festival-aniversario-de-valdivia/
LOCATION:Estadio Parque Municipal de Valdivia\, Errázuriz 1101\, Valdivia\, Valdivia\, Chile
ATTACH;FMTTYPE=image/png:https://descubrelosrios.cl/wp-content/uploads/2026/01/Sin-titulo-5-x-3-cm-26.png
END:VEVENT
END:VCALENDAR