BEGIN:VCALENDAR
VERSION:2.0
PRODID:-// - ECPv6.15.14//NONSGML v1.0//EN
CALSCALE:GREGORIAN
METHOD:PUBLISH
X-ORIGINAL-URL:https://descubrelosrios.cl
X-WR-CALDESC:Eventos para 
REFRESH-INTERVAL;VALUE=DURATION:PT1H
X-Robots-Tag:noindex
X-PUBLISHED-TTL:PT1H
BEGIN:VTIMEZONE
TZID:UTC
BEGIN:STANDARD
TZOFFSETFROM:+0000
TZOFFSETTO:+0000
TZNAME:UTC
DTSTART:20250101T000000
END:STANDARD
END:VTIMEZONE
BEGIN:VEVENT
DTSTART;VALUE=DATE:20261209
DTEND;VALUE=DATE:20261213
DTSTAMP:20260420T064854
CREATED:20260203T115751Z
LAST-MODIFIED:20260203T115801Z
UID:9045-1796774400-1797119999@descubrelosrios.cl
SUMMARY:Fluvial 2026\, 10 años
DESCRIPTION:Fluvial 2026 celebra 10 años de historia\, consolidándose como un espacio único de encuentro entre música\, cultura y territorio. Durante esta década\, el festival ha impulsado la difusión de artistas\, el fortalecimiento del ecosistema musical y la proyección internacional de la escena local\, reafirmando su compromiso con la creatividad y la colaboración.
URL:https://descubrelosrios.cl/event/fluvial-2026-10-anos/
LOCATION:Valdivia\, VALDIVIA\, LOS RIOS\, Chile
CATEGORIES:Festival
ATTACH;FMTTYPE=image/png:https://descubrelosrios.cl/wp-content/uploads/2026/02/Captura-de-pantalla-2026-02-03-085233.png
END:VEVENT
END:VCALENDAR