BEGIN:VCALENDAR
VERSION:2.0
PRODID:-// - ECPv6.15.14//NONSGML v1.0//EN
CALSCALE:GREGORIAN
METHOD:PUBLISH
X-ORIGINAL-URL:https://descubrelosrios.cl
X-WR-CALDESC:Eventos para 
REFRESH-INTERVAL;VALUE=DURATION:PT1H
X-Robots-Tag:noindex
X-PUBLISHED-TTL:PT1H
BEGIN:VTIMEZONE
TZID:UTC
BEGIN:STANDARD
TZOFFSETFROM:+0000
TZOFFSETTO:+0000
TZNAME:UTC
DTSTART:20250101T000000
END:STANDARD
END:VTIMEZONE
BEGIN:VEVENT
DTSTART;VALUE=DATE:20260828
DTEND;VALUE=DATE:20260831
DTSTAMP:20260420T033756
CREATED:20260406T160354Z
LAST-MODIFIED:20260406T160403Z
UID:9423-1787875200-1788134399@descubrelosrios.cl
SUMMARY:Sur Mujer 2026 “Energía Consciente”
DESCRIPTION:El Encuentro Sur Mujer 2026 se realizará en el Parque Saval de Valdivia entre el 28 al 30  de agosto\, bajo el lema “Energía Consciente”. La programación incluye charlas\, paneles\, actividades artísticas y la tradicional Feria Sur Mujer\, que visibiliza emprendimientos femeninos de la Región de Los Ríos con apoyo institucional. \nCon más de quince años de trayectoria\, Sur Mujer se consolida como un referente cultural y comunitario del sur de Chile\, promoviendo la creatividad\, el emprendimiento y la participación ciudadana en un espacio de encuentro diverso y enriquecedor.
URL:https://descubrelosrios.cl/event/sur-mujer-2026-energia-consciente/
LOCATION:Centro de Ferias Parque Saval\, Parque Saval 1\, VALDIVIA\, Chile
CATEGORIES:Eventos
ATTACH;FMTTYPE=image/png:https://descubrelosrios.cl/wp-content/uploads/2026/04/Captura-de-pantalla-2026-04-06-115534.png
END:VEVENT
END:VCALENDAR