BEGIN:VCALENDAR
VERSION:2.0
PRODID:-// - ECPv6.15.14//NONSGML v1.0//EN
CALSCALE:GREGORIAN
METHOD:PUBLISH
X-ORIGINAL-URL:https://descubrelosrios.cl
X-WR-CALDESC:Eventos para 
REFRESH-INTERVAL;VALUE=DURATION:PT1H
X-Robots-Tag:noindex
X-PUBLISHED-TTL:PT1H
BEGIN:VTIMEZONE
TZID:UTC
BEGIN:STANDARD
TZOFFSETFROM:+0000
TZOFFSETTO:+0000
TZNAME:UTC
DTSTART:20250101T000000
END:STANDARD
END:VTIMEZONE
BEGIN:VEVENT
DTSTART;VALUE=DATE:20260515
DTEND;VALUE=DATE:20260518
DTSTAMP:20260419T222348
CREATED:20260106T020005Z
LAST-MODIFIED:20260108T145953Z
UID:7917-1778803200-1779062399@descubrelosrios.cl
SUMMARY:Fungi Fest
DESCRIPTION:Se celebra cada otoño en el Parque Saval\, reuniendo a miles de personas en torno a charlas\, talleres\, feria y gastronomía. El festival posiciona a Valdivia como capital de la cultura fúngica en Sudamérica.
URL:https://descubrelosrios.cl/event/fungi-fest/
LOCATION:Centro de Ferias Parque Saval\, Parque Saval 1\, VALDIVIA\, Chile
CATEGORIES:Eventos
ATTACH;FMTTYPE=image/png:https://descubrelosrios.cl/wp-content/uploads/2026/01/Sin-titulo-5-x-3-cm-14.png
END:VEVENT
END:VCALENDAR