BEGIN:VCALENDAR
VERSION:2.0
PRODID:-// - ECPv6.15.14//NONSGML v1.0//EN
CALSCALE:GREGORIAN
METHOD:PUBLISH
X-ORIGINAL-URL:https://descubrelosrios.cl
X-WR-CALDESC:Eventos para 
REFRESH-INTERVAL;VALUE=DURATION:PT1H
X-Robots-Tag:noindex
X-PUBLISHED-TTL:PT1H
BEGIN:VTIMEZONE
TZID:UTC
BEGIN:STANDARD
TZOFFSETFROM:+0000
TZOFFSETTO:+0000
TZNAME:UTC
DTSTART:20250101T000000
END:STANDARD
END:VTIMEZONE
BEGIN:VEVENT
DTSTART;VALUE=DATE:20260507
DTEND;VALUE=DATE:20260510
DTSTAMP:20260419T223712
CREATED:20260106T013708Z
LAST-MODIFIED:20260107T170415Z
UID:7910-1778112000-1778371199@descubrelosrios.cl
SUMMARY:Festival de cine de terror
DESCRIPTION:El Festival Internacional de Cine de Terror de Valdivia se realiza en mayo\, con funciones en el Teatro Municipal y el Cine Club UACh. El evento reúne a cineastas nacionales e internacionales en torno a competencias de largometrajes\, cortometrajes y la sección “Cortos en 2 minutos”\, consolidando a Valdivia como referente del cine de terror en Chile. \nCon más de dos décadas de trayectoria\, el certamen fortalece la oferta cultural de la región\, fomenta la participación ciudadana y promueve la creatividad audiovisual en un ambiente que mezcla fantasía\, suspenso y cultura.
URL:https://descubrelosrios.cl/event/festival-de-cine-de-terror/
LOCATION:Teatro  Lord Cochrane\, Independencia 455\, Chile
CATEGORIES:Eventos,Festival
ATTACH;FMTTYPE=image/png:https://descubrelosrios.cl/wp-content/uploads/2026/01/cine-de-terror.png
END:VEVENT
END:VCALENDAR