BEGIN:VCALENDAR
VERSION:2.0
PRODID:-// - ECPv6.15.14//NONSGML v1.0//EN
CALSCALE:GREGORIAN
METHOD:PUBLISH
X-ORIGINAL-URL:https://descubrelosrios.cl
X-WR-CALDESC:Eventos para 
REFRESH-INTERVAL;VALUE=DURATION:PT1H
X-Robots-Tag:noindex
X-PUBLISHED-TTL:PT1H
BEGIN:VTIMEZONE
TZID:UTC
BEGIN:STANDARD
TZOFFSETFROM:+0000
TZOFFSETTO:+0000
TZNAME:UTC
DTSTART:20250101T000000
END:STANDARD
END:VTIMEZONE
BEGIN:VEVENT
DTSTART;TZID=UTC:20260103T120000
DTEND;TZID=UTC:20260301T210000
DTSTAMP:20260419T235444
CREATED:20251231T152443Z
LAST-MODIFIED:20260107T170701Z
UID:7696-1767441600-1772398800@descubrelosrios.cl
SUMMARY:Muestra Costumbrista de Punucapa
DESCRIPTION:Este encuentro es una celebración de las tradiciones rurales del territorio\, ideal para disfrutar en familia\, degustar sabores locales y conectar con la identidad cultural de la Región de Los Ríos. Donde la gastronomía típica\, la artesanía local y la música tradicional se unen en un entorno natural único.
URL:https://descubrelosrios.cl/event/muestra-costumbrista-de-punucapa/
LOCATION:Recinto Ferial Punucapa\, Punucapa\, Valdivia\, Región de Los Ríos\, Chile
CATEGORIES:Eventos
ATTACH;FMTTYPE=image/png:https://descubrelosrios.cl/wp-content/uploads/2025/12/Punucapa.png
END:VEVENT
BEGIN:VEVENT
DTSTART;TZID=UTC:20260110T120000
DTEND;TZID=UTC:20260310T000000
DTSTAMP:20260419T235444
CREATED:20251231T143844Z
LAST-MODIFIED:20260107T170618Z
UID:7682-1768046400-1773100800@descubrelosrios.cl
SUMMARY:Muestra Costumbrista Caleta el Piojo - Niebla
DESCRIPTION:La Muestra Costumbrista Caleta El Piojo invita a vivir las tradiciones del borde costero\, con gastronomía típica\, oficios locales y expresiones culturales que reflejan la identidad y el patrimonio del territorio.
URL:https://descubrelosrios.cl/event/muestra-costumbrista-caleta-el-piojo-niebla/
LOCATION:Caleta el Piojo – Niebla\, Niebla\, Valdivia\, Región de Los Ríos\, Chile
CATEGORIES:Eventos
ATTACH;FMTTYPE=image/png:https://descubrelosrios.cl/wp-content/uploads/2025/12/Caleta-el-piojo.png
END:VEVENT
BEGIN:VEVENT
DTSTART;VALUE=DATE:20260129
DTEND;VALUE=DATE:20260202
DTSTAMP:20260419T235444
CREATED:20251223T230713Z
LAST-MODIFIED:20251231T153927Z
UID:7633-1769644800-1769990399@descubrelosrios.cl
SUMMARY:Bierfest Kunstmann
DESCRIPTION:La Bierfest Kunstmann es una de las fiestas cerveceras más emblemáticas del sur de Chile\, donde la tradición alemana\, la música en vivo y la buena cerveza se encuentran en un ambiente festivo único. Con una variada oferta de cervezas artesanales\, gastronomía típica\, espectáculos y actividades para toda la familia\, este evento invita a disfrutar\, celebrar y vivir la cultura cervecera en Valdivia
URL:https://descubrelosrios.cl/event/bierfest-kunstmann/
LOCATION:Valdivia\, VALDIVIA\, LOS RIOS\, Chile
CATEGORIES:Eventos,Festival
ATTACH;FMTTYPE=image/jpeg:https://descubrelosrios.cl/wp-content/uploads/2025/12/Biesfest-Kunstamann.jpg
END:VEVENT
BEGIN:VEVENT
DTSTART;VALUE=DATE:20260130
DTEND;VALUE=DATE:20260202
DTSTAMP:20260419T235444
CREATED:20260102T190650Z
LAST-MODIFIED:20260107T181006Z
UID:7759-1769731200-1769990399@descubrelosrios.cl
SUMMARY:In Rock Fest Panguipulli
DESCRIPTION:¡El sur de Chile suena más fuerte que nunca! \nEl In Rock Fest Panguipulli reúne durante tres días lo mejor del rock y el metal en un entorno natural único. Con bandas originales y tributos a gigantes de la música\, el festival convierte a San Clemente en el epicentro de la energía rockera\, mezclando música\, camping y comunidad. \nUn evento imperdible y familiar\, con entrada liberada para menores de 12 años\, que posiciona a Panguipulli como destino cultural y turístico.
URL:https://descubrelosrios.cl/event/in-rock-fest-panguipulli/
LOCATION:Panguipulli\, Lago Calafquén\, Panguipulli\, Chile
CATEGORIES:Eventos,Festival
ATTACH;FMTTYPE=image/png:https://descubrelosrios.cl/wp-content/uploads/2026/01/Sin-titulo-5-x-3-cm-7.png
END:VEVENT
BEGIN:VEVENT
DTSTART;VALUE=DATE:20260131
DTEND;VALUE=DATE:20260202
DTSTAMP:20260419T235444
CREATED:20260116T170409Z
LAST-MODIFIED:20260116T170413Z
UID:8581-1769817600-1769990399@descubrelosrios.cl
SUMMARY:Fiesta locos por el Asado Mariquina
DESCRIPTION:La Fiesta “Locos por el Asado” en Mariquina es una celebración que reúne a vecinos y visitantes en torno a la tradición del buen asado. Con música\, sabores locales y un ambiente familiar lleno de alegría\, este encuentro se ha convertido en un espacio de convivencia y disfrute que refleja la identidad y hospitalidad de la comuna.
URL:https://descubrelosrios.cl/event/fiesta-locos-por-el-asado-mariquina/
LOCATION:Frente la Escuela de Tringlo\, Mariquina\, Chile
CATEGORIES:Eventos
ATTACH;FMTTYPE=image/png:https://descubrelosrios.cl/wp-content/uploads/2026/01/Captura-de-pantalla-2026-01-16-140312.png
END:VEVENT
BEGIN:VEVENT
DTSTART;VALUE=DATE:20260201
DTEND;VALUE=DATE:20260301
DTSTAMP:20260419T235444
CREATED:20251223T231217Z
LAST-MODIFIED:20260108T120800Z
UID:7640-1769904000-1772323199@descubrelosrios.cl
SUMMARY:Feria de Turismo y Cultura
DESCRIPTION:Encuentro de artesanos\, músicos y del patrimonio cultural de la Provincia del Ranco.
URL:https://descubrelosrios.cl/event/feria-de-turismo-y-cultura/
LOCATION:La Unión\, La Unión\, La Unión\, Los Ríos\, 5220000\, Chile
CATEGORIES:Eventos,Feria
ATTACH;FMTTYPE=image/jpeg:https://descubrelosrios.cl/wp-content/uploads/2025/12/DJI_20250807101438_0166_D-scaled.jpg
END:VEVENT
BEGIN:VEVENT
DTSTART;TZID=UTC:20260202T200000
DTEND;TZID=UTC:20260202T220000
DTSTAMP:20260419T235444
CREATED:20260107T135605Z
LAST-MODIFIED:20260108T120948Z
UID:8016-1770062400-1770069600@descubrelosrios.cl
SUMMARY:Gala de ballet Cenicienta
DESCRIPTION:El Teatro Regional Cervantes presenta una versión mágica de Cenicienta\, con coreografía de Oscar Bravo y música de Serguéi Prokofiev. En tres actos\, la obra revive el encanto del clásico cuento con elegancia y emoción\, ofreciendo una experiencia inolvidable para toda la familia.
URL:https://descubrelosrios.cl/event/gala-de-ballet-cenicienta/
LOCATION:Teatro Regional Cervantes\, Chacabuco 210\, VALDIVIA\, Programado\, Chile
CATEGORIES:Eventos
ATTACH;FMTTYPE=image/png:https://descubrelosrios.cl/wp-content/uploads/2026/01/Sin-titulo-5-x-3-cm-9.png
END:VEVENT
BEGIN:VEVENT
DTSTART;VALUE=DATE:20260205
DTEND;VALUE=DATE:20260209
DTSTAMP:20260419T235444
CREATED:20251223T231007Z
LAST-MODIFIED:20251230T203319Z
UID:7638-1770249600-1770595199@descubrelosrios.cl
SUMMARY:Ranco Diseño
DESCRIPTION:Espacio que celebra la creatividad\, el diseño y la identidad local. Un encuentro donde diseñadores\, artesanos y creadores se reúnen a orillas del lago para mostrar propuestas únicas\, inspiradas en el territorio\, la naturaleza y los oficios contemporáneos. Una invitación a descubrir talento\, innovación y estilo en un entorno incomparable.
URL:https://descubrelosrios.cl/event/ranco-diseno/
LOCATION:Costanera Lago Ranco\, Lago Ranco\, Región de Los Ríos
CATEGORIES:Eventos,Feria
ATTACH;FMTTYPE=image/jpeg:https://descubrelosrios.cl/wp-content/uploads/2025/12/Ranco-diseno.jpg
END:VEVENT
BEGIN:VEVENT
DTSTART;VALUE=DATE:20260207
DTEND;VALUE=DATE:20260208
DTSTAMP:20260419T235444
CREATED:20260127T194724Z
LAST-MODIFIED:20260127T194730Z
UID:8973-1770422400-1770508799@descubrelosrios.cl
SUMMARY:Astronomía Cultural SUNSET 2026
DESCRIPTION:La iniciativa Astronomía Cultural SUNSET 2026 invita a residentes y visitantes de Panguipulli a disfrutar de la contemplación del cielo nocturno. Con charlas\, observaciones guiadas y espectáculos artísticos al aire libre\, el evento combina ciencia\, cultura y cosmovisión ancestral en un ambiente familiar y gratuito. Se consolida\, así como un hito estival que fortalece la identidad local y posiciona al destino Sietelagos como referente de astroturismo en la Región de Los Ríos.
URL:https://descubrelosrios.cl/event/astronomia-cultural-sunset-2026/
LOCATION:Playa Chauquén\, Panguipulli\, Chile
CATEGORIES:Eventos
ATTACH;FMTTYPE=image/png:https://descubrelosrios.cl/wp-content/uploads/2026/01/Captura-de-pantalla-2026-01-27-164625.png
END:VEVENT
BEGIN:VEVENT
DTSTART;VALUE=DATE:20260207
DTEND;VALUE=DATE:20260209
DTSTAMP:20260419T235444
CREATED:20260102T133646Z
LAST-MODIFIED:20260108T122514Z
UID:7714-1770422400-1770595199@descubrelosrios.cl
SUMMARY:Trilla a yegua suelta de Illahuapi
DESCRIPTION:La Trilla a Yegua Suelta de Illahuapi es una fiesta costumbrista única que revive la tradición campesina en la cuenca del Lago Ranco\, donde caballos pisan el trigo para separar el grano de la paja\, acompañada de música\, gastronomía típica y un ambiente comunitario lleno de identidad y alegría.
URL:https://descubrelosrios.cl/event/trilla-a-yegua-de-illahuapi/
LOCATION:Recinto Trilla Península Illahuapi\, Illahuapi\, Lago Ranco\, Región de Los Ríos\, Chile
CATEGORIES:Eventos
ATTACH;FMTTYPE=image/png:https://descubrelosrios.cl/wp-content/uploads/2026/01/Sin-titulo-5-x-3-cm-10.png
END:VEVENT
BEGIN:VEVENT
DTSTART;VALUE=DATE:20260207
DTEND;VALUE=DATE:20260209
DTSTAMP:20260419T235444
CREATED:20260107T144407Z
LAST-MODIFIED:20260108T124541Z
UID:8044-1770422400-1770595199@descubrelosrios.cl
SUMMARY:7° Versión Trilla a Yegua Suelta Panguipulli 2026
DESCRIPTION:Te invitamos a ser parte de la 7° Trilla a Yegua Suelta – Cultruncahue\, Panguipulli 2026\, una fiesta campesina que rescata nuestras raíces\, el trabajo comunitario y la cultura del campo.
URL:https://descubrelosrios.cl/event/7-version-trilla-a-yegua-suelta-panguipulli-2026/
LOCATION:Sector Cultruncahue\, Panguipulli\, Panguipulli\, Los Ríos\, Chile
CATEGORIES:Eventos
ATTACH;FMTTYPE=image/png:https://descubrelosrios.cl/wp-content/uploads/2026/01/Sin-titulo-5-x-3-cm-11.png
END:VEVENT
BEGIN:VEVENT
DTSTART;TZID=UTC:20260207T110000
DTEND;TZID=UTC:20260207T190000
DTSTAMP:20260419T235444
CREATED:20260122T202156Z
LAST-MODIFIED:20260122T202202Z
UID:8862-1770462000-1770490800@descubrelosrios.cl
SUMMARY:Festival de canes de clínica Boroscheck 2026 edición n° 27
DESCRIPTION:La 27ª edición del Festival de Canes de la Clínica Boroscheck 2026 se presenta como un encuentro familiar y comunitario que celebra la salud\, el bienestar y la alegría de las mascotas. Con actividades recreativas\, concursos y servicios de apoyo veterinario\, el evento refuerza el compromiso de la clínica con el cuidado responsable y el vínculo afectivo entre personas y animales.
URL:https://descubrelosrios.cl/event/festival-de-canes-de-clinica-boroscheck-2026-edicion-n-27/
LOCATION:Parque Saval y Centro de Ferias\, Parque Saval 1\, Valdivia\, REGION DE LOS RIOS\, Chile
CATEGORIES:Eventos
ATTACH;FMTTYPE=image/png:https://descubrelosrios.cl/wp-content/uploads/2026/01/Captura-de-pantalla-2026-01-22-171833.png
END:VEVENT
BEGIN:VEVENT
DTSTART;VALUE=DATE:20260213
DTEND;VALUE=DATE:20260215
DTSTAMP:20260419T235444
CREATED:20260102T184127Z
LAST-MODIFIED:20260112T191047Z
UID:7743-1770940800-1771113599@descubrelosrios.cl
SUMMARY:1°  MUESTRA COSTUMBRISTA SABORES Y TRADICIONES DEL VALLE DE MANTILHUE
DESCRIPTION:La comunidad del Valle de Mantilhue invita a disfrutar  los días 13 y 14 de febrero de una jornada llena de identidad\, cultura y tradición\, donde se resaltan las costumbres que han pasado de generación en generación. No te lo pierdas!
URL:https://descubrelosrios.cl/event/1-muestra-costumbrista-sabores-y-tradiciones-del-valle-de-mantilhue/
LOCATION:SECTOR MANTILHUE\, RIO BUENO\, RIO BUENO\, LOS RÍOS
CATEGORIES:Eventos
ATTACH;FMTTYPE=image/png:https://descubrelosrios.cl/wp-content/uploads/2026/01/Sin-titulo-5-x-3-cm-4.png
END:VEVENT
BEGIN:VEVENT
DTSTART;VALUE=DATE:20260213
DTEND;VALUE=DATE:20260215
DTSTAMP:20260419T235444
CREATED:20260128T161215Z
LAST-MODIFIED:20260128T161341Z
UID:9004-1770940800-1771113599@descubrelosrios.cl
SUMMARY:Juan Pablo López\, Stand up comedy \, Casino Dreams
DESCRIPTION:El reconocido comediante Juan Pablo López llega a Casino Dreams con su stand up lleno de humor fresco y cotidiano. Una noche imperdible para disfrutar de risas\, ocurrencias y la chispa característica de uno de los referentes del humor nacional\, en un ambiente único que combina entretención y espectáculo en vivo.
URL:https://descubrelosrios.cl/event/juan-pablo-lopez-stand-up-comedy-casino-dreams/
LOCATION:Casino Dreams\, Carampagne 190\, VALDIVIA\, LOS RIOS\, Chile
CATEGORIES:Eventos
ATTACH;FMTTYPE=image/png:https://descubrelosrios.cl/wp-content/uploads/2026/01/Captura-de-pantalla-2026-01-28-131055.png
END:VEVENT
BEGIN:VEVENT
DTSTART;VALUE=DATE:20260213
DTEND;VALUE=DATE:20260216
DTSTAMP:20260419T235444
CREATED:20251231T153211Z
LAST-MODIFIED:20260107T170528Z
UID:7703-1770940800-1771199999@descubrelosrios.cl
SUMMARY:Climb Festival North Face
DESCRIPTION:Evento deportivo que reúne a amantes de la escalada y el outdoor en una experiencia cargada de adrenalina. Ideal para quienes buscan deporte\, aventura y un espectáculo diferente.
URL:https://descubrelosrios.cl/event/climb-festival-north-face/
LOCATION:Puente Pedro de Valdivia\, Isla Teja\, Valdivia\, Región de Los Ríos\, Chile
CATEGORIES:Eventos
ATTACH;FMTTYPE=image/png:https://descubrelosrios.cl/wp-content/uploads/2025/12/Climb-North-Face.png
END:VEVENT
BEGIN:VEVENT
DTSTART;TZID=UTC:20260213T200000
DTEND;TZID=UTC:20260213T220000
DTSTAMP:20260419T235444
CREATED:20260128T155310Z
LAST-MODIFIED:20260128T155317Z
UID:8996-1771012800-1771020000@descubrelosrios.cl
SUMMARY:Aperitivo cultural\, Entre tangos y Boleros
DESCRIPTION:El Aperitivo Cultural “Entre Tangos y Boleros” en Valdivia ofrece una velada especial que reúne música en vivo y danza en un ambiente íntimo y acogedor. Como parte de la programación cultural de verano\, invita a la comunidad y visitantes a disfrutar de clásicos del tango y el bolero\, fortaleciendo la vida cultural de la ciudad y creando un espacio gratuito y familiar de encuentro.
URL:https://descubrelosrios.cl/event/aperitivo-cultural-entre-tangos-y-boleros/
LOCATION:Ex- helipuerto costanera\, Avenida Prat\, Valdivia\, Chile
CATEGORIES:Eventos
ATTACH;FMTTYPE=image/png:https://descubrelosrios.cl/wp-content/uploads/2026/01/Captura-de-pantalla-2026-01-28-125213.png
END:VEVENT
BEGIN:VEVENT
DTSTART;TZID=UTC:20260213T220000
DTEND;TZID=UTC:20260213T220000
DTSTAMP:20260419T235444
CREATED:20260205T145811Z
LAST-MODIFIED:20260205T163633Z
UID:9109-1771020000-1771020000@descubrelosrios.cl
SUMMARY:Malicia en vivo: Avant Premiere Videoclip Ostras
DESCRIPTION:La banda valdiviana Malicia lanza su nuevo videoclip Ostras\, un adelanto de su tercer disco que se posiciona como un hito creativo dentro de la escena independiente del sur de Chile. El video despliega una estética experimental y atmósferas envolventes que potencian la sensualidad y el pulso hipnótico de la canción\, consolidando la propuesta electropop psicodélica del grupo. \nEn paralelo\, Malicia ofrece un show en vivo que transforma el escenario en un viaje sonoro y visual. El público se sumerge en texturas electrónicas\, luces y energía festiva\, mientras la proyección de Ostras marca el momento central de la velada. Entrada Liberada\, sin excusas para disfrutar de una banda original y única en su estilo.
URL:https://descubrelosrios.cl/event/malicia-en-vivo-avant-premiere-videoclip-ostras/
LOCATION:Bar 55 Cocina y Bar\, Los Robles 55\, Isla Teja\, Valdivia\, Chile
CATEGORIES:Eventos
ATTACH;FMTTYPE=image/png:https://descubrelosrios.cl/wp-content/uploads/2026/02/Captura-de-pantalla-2026-02-05-114737.png
END:VEVENT
BEGIN:VEVENT
DTSTART;VALUE=DATE:20260214
DTEND;VALUE=DATE:20260215
DTSTAMP:20260419T235444
CREATED:20260127T192140Z
LAST-MODIFIED:20260127T192146Z
UID:8969-1771027200-1771113599@descubrelosrios.cl
SUMMARY:DÍA DE LOS ENAMORADOS
DESCRIPTION:El Día de los Enamorados en Panguipulli\, celebrado cada 14 de febrero\, forma parte de la programación estival organizada por la Municipalidad y se ha consolidado como un espacio de encuentro ciudadano y turístico. Con actividades gratuitas en la costanera y la Playa Grande\, el evento ofrece música en vivo\, ferias costumbristas y espacios recreativos\, creando un ambiente cálido y familiar. \nMás allá de la celebración romántica\, esta jornada fortalece la identidad local y promueve el turismo\, posicionando a Panguipulli como un destino cultural y acogedor en la Región de Los Ríos.
URL:https://descubrelosrios.cl/event/dia-de-los-enamorados/
LOCATION:Plaza Arturo Prat\, Calle Pedro de Valdivia y Martinez de Rosas\, Panguipulli\, Chile
CATEGORIES:Eventos
ATTACH;FMTTYPE=image/png:https://descubrelosrios.cl/wp-content/uploads/2026/01/Captura-de-pantalla-2026-01-27-160612.png
END:VEVENT
BEGIN:VEVENT
DTSTART;VALUE=DATE:20260214
DTEND;VALUE=DATE:20260215
DTSTAMP:20260419T235444
CREATED:20260204T202628Z
LAST-MODIFIED:20260204T204032Z
UID:9099-1771027200-1771113599@descubrelosrios.cl
SUMMARY:Festival de música y cervezas Hopstock Barbudo Bar
DESCRIPTION:El Festival Hopstock 2026 se celebrará el sábado 14 de febrero en la Estación de Trenes de Valdivia\, como uno de los encuentros más esperados del verano al reunir música en vivo y cerveza artesanal en un ambiente familiar e inclusivo.
URL:https://descubrelosrios.cl/event/festival-de-musica-y-cervezas-hopstock-barbudo-bar/
LOCATION:Estación de trenes valdivia\, Avenida Ecuador 2000\, Valdivia\, Chile
CATEGORIES:Eventos
ATTACH;FMTTYPE=image/png:https://descubrelosrios.cl/wp-content/uploads/2026/02/Captura-de-pantalla-2026-02-04-172505.png
END:VEVENT
BEGIN:VEVENT
DTSTART;VALUE=DATE:20260215
DTEND;VALUE=DATE:20260216
DTSTAMP:20260419T235444
CREATED:20260127T191254Z
LAST-MODIFIED:20260127T191303Z
UID:8963-1771113600-1771199999@descubrelosrios.cl
SUMMARY:Otaku Fans
DESCRIPTION:La comunidad Otaku Fans reúne a apasionados del anime\, manga y la cultura japonesa\, generando espacios de encuentro tanto presenciales como virtuales. A través de ferias\, convenciones y actividades creativas como el cosplay\, se ha consolidado como un movimiento cultural diverso y dinámico\, que promueve la integración\, la creatividad y el intercambio entre generaciones.
URL:https://descubrelosrios.cl/event/otaku-fans/
LOCATION:Gimnasio Municipal Eduardo Brevis\, Ruta 203 747\,\, Panguipulli\, Chile
CATEGORIES:Eventos
ATTACH;FMTTYPE=image/png:https://descubrelosrios.cl/wp-content/uploads/2026/01/Captura-de-pantalla-2026-01-27-161204.png
END:VEVENT
BEGIN:VEVENT
DTSTART;VALUE=DATE:20260221
DTEND;VALUE=DATE:20260227
DTSTAMP:20260419T235444
CREATED:20260128T165533Z
LAST-MODIFIED:20260128T200735Z
UID:9007-1771632000-1772150399@descubrelosrios.cl
SUMMARY:Cerveceras Cocineras
DESCRIPTION:La Fiesta Cerveceras Cocineras 2026 reúne a mujeres emprendedoras de la gastronomía y la cerveza artesanal en un encuentro que celebra la creatividad y el talento femenino. Con degustaciones\, música en vivo y un ambiente festivo\, la actividad invita a la comunidad y visitantes a disfrutar de sabores auténticos y apoyar la producción local en la Región de Los Ríos.
URL:https://descubrelosrios.cl/event/cerveceras-cocineras/
LOCATION:Espacio Fluvial\, Avenida Prat / Carampangue\, Valdivia\, Chile
CATEGORIES:Eventos
ATTACH;FMTTYPE=image/png:https://descubrelosrios.cl/wp-content/uploads/2026/01/Captura-de-pantalla-2026-01-28-170636.png
END:VEVENT
BEGIN:VEVENT
DTSTART;VALUE=DATE:20260227
DTEND;VALUE=DATE:20260228
DTSTAMP:20260419T235444
CREATED:20260127T200037Z
LAST-MODIFIED:20260127T200045Z
UID:8978-1772150400-1772236799@descubrelosrios.cl
SUMMARY:BOULEVARD VERANO 2026
DESCRIPTION:El Boulevard de Verano 2026 transforma la calle Martínez de Rosas en un espacio de encuentro comunitario entre el 20 de enero y el 21 de febrero. Con música en vivo\, artesanía y gastronomía local\, este evento gratuito ofrece un ambiente acogedor y familiar\, consolidándose como uno de los panoramas estivales más atractivos de Panguipulli y el destino Sietelagos.
URL:https://descubrelosrios.cl/event/boulevard-verano-2026-2/
LOCATION:Boulevard  centro\, Calle Martinez de Rosas\, Panguipulli\, Chile
CATEGORIES:Eventos
ATTACH;FMTTYPE=image/png:https://descubrelosrios.cl/wp-content/uploads/2026/01/Captura-de-pantalla-2026-01-27-165948.png
END:VEVENT
BEGIN:VEVENT
DTSTART;VALUE=DATE:20260228
DTEND;VALUE=DATE:20260301
DTSTAMP:20260419T235444
CREATED:20251223T230844Z
LAST-MODIFIED:20251231T154114Z
UID:7636-1772236800-1772323199@descubrelosrios.cl
SUMMARY:Show Noche Valdiviana
DESCRIPTION:Prepárate para vivir una de las celebraciones más espectaculares del verano en el sur de Chile: la Noche Valdiviana\, un evento que ilumina las orillas del río Calle-Calle con un deslumbrante espectáculo de embarcaciones decoradas\, música y fuegos artificiales.
URL:https://descubrelosrios.cl/event/noche-valdiviana/
LOCATION:Costanera de Valdivia\, Avenida Prat\, Valdivia\, Región de Los Ríos\, Chile
CATEGORIES:Eventos,Festival
ATTACH;FMTTYPE=image/jpeg:https://descubrelosrios.cl/wp-content/uploads/2025/12/Noche-valdivia.jpg
END:VEVENT
END:VCALENDAR