BEGIN:VCALENDAR
VERSION:2.0
PRODID:-// - ECPv6.15.14//NONSGML v1.0//EN
CALSCALE:GREGORIAN
METHOD:PUBLISH
X-ORIGINAL-URL:https://descubrelosrios.cl
X-WR-CALDESC:Eventos para 
REFRESH-INTERVAL;VALUE=DURATION:PT1H
X-Robots-Tag:noindex
X-PUBLISHED-TTL:PT1H
BEGIN:VTIMEZONE
TZID:UTC
BEGIN:STANDARD
TZOFFSETFROM:+0000
TZOFFSETTO:+0000
TZNAME:UTC
DTSTART:20250101T000000
END:STANDARD
END:VTIMEZONE
BEGIN:VEVENT
DTSTART;VALUE=DATE:20260226
DTEND;VALUE=DATE:20260302
DTSTAMP:20260419T231059
CREATED:20260119T194355Z
LAST-MODIFIED:20260119T194426Z
UID:8656-1772064000-1772409599@descubrelosrios.cl
SUMMARY:Torneo copa semana valdiviana 2026
DESCRIPTION:La Copa Semana Valdiviana 2026 se integra a las celebraciones de la tradicional fiesta mayor de Valdivia\, reuniendo a clubes locales y regionales en un torneo deportivo que refuerza la identidad comunitaria y complementa las actividades culturales y turísticas de la ciudad. \n 
URL:https://descubrelosrios.cl/event/torneo-copa-semana-valdiviana-2026/
LOCATION:club de tenis\, Pedro Montt 668\, Valdivia\, Chile
CATEGORIES:Evento Deportivo
ATTACH;FMTTYPE=image/png:https://descubrelosrios.cl/wp-content/uploads/2026/01/Captura-de-pantalla-2026-01-19-164216.png
END:VEVENT
END:VCALENDAR