BEGIN:VCALENDAR
VERSION:2.0
PRODID:-// - ECPv6.15.14//NONSGML v1.0//EN
CALSCALE:GREGORIAN
METHOD:PUBLISH
X-ORIGINAL-URL:https://descubrelosrios.cl
X-WR-CALDESC:Eventos para 
REFRESH-INTERVAL;VALUE=DURATION:PT1H
X-Robots-Tag:noindex
X-PUBLISHED-TTL:PT1H
BEGIN:VTIMEZONE
TZID:UTC
BEGIN:STANDARD
TZOFFSETFROM:+0000
TZOFFSETTO:+0000
TZNAME:UTC
DTSTART:20250101T000000
END:STANDARD
END:VTIMEZONE
BEGIN:VEVENT
DTSTART;VALUE=DATE:20260222
DTEND;VALUE=DATE:20260223
DTSTAMP:20260420T005451
CREATED:20260119T200712Z
LAST-MODIFIED:20260119T200719Z
UID:8661-1771718400-1771804799@descubrelosrios.cl
SUMMARY:Activa tu costanera
DESCRIPTION:El evento “Activa tu Costanera” se desarrolla en la ciudad de Valdivia como una iniciativa comunitaria que promueve el uso del espacio público a través de actividades deportivas\, recreativas y culturales. La jornada convierte la ribera del río Calle-Calle en un escenario abierto para la participación ciudadana\, ofreciendo talleres\, clases al aire libre y espectáculos que fomentan la vida saludable y la integración social. \nCon esta propuesta\, la Costanera se consolida como un punto de encuentro que refuerza la identidad local y proyecta a Valdivia como una ciudad activa\, inclusiva y comprometida con el bienestar de su comunidad.
URL:https://descubrelosrios.cl/event/activa-tu-costanera/
LOCATION:Costanera de Valdivia\, Avenida Prat\, Valdivia\, Región de Los Ríos\, Chile
CATEGORIES:Evento Deportivo
ATTACH;FMTTYPE=image/png:https://descubrelosrios.cl/wp-content/uploads/2026/01/Captura-de-pantalla-2026-01-19-170505.png
END:VEVENT
BEGIN:VEVENT
DTSTART;VALUE=DATE:20260222
DTEND;VALUE=DATE:20260224
DTSTAMP:20260420T005451
CREATED:20260120T171108Z
LAST-MODIFIED:20260120T171112Z
UID:8718-1771718400-1771891199@descubrelosrios.cl
SUMMARY:“1° Encuentro Masivo Femenino de Airsoft Húsares de Valdivia”
DESCRIPTION:El 1° Encuentro Masivo Femenino de Airsoft Húsares de Valdivia constituye una instancia inédita de participación deportiva\, que reúne a jugadoras en torno a la disciplina del airsoft en un ambiente de integración y camaradería. El evento busca visibilizar y fortalecer el rol femenino en este deporte\, promoviendo la práctica competitiva y el trabajo en equipo dentro de la comunidad local y regional.
URL:https://descubrelosrios.cl/event/1-encuentro-masivo-femenino-de-airsoft-husares-de-valdivia/
LOCATION:Sector rincón de la piedra\, VALDIVIA\,\, Chile
CATEGORIES:Evento Deportivo
ATTACH;FMTTYPE=image/png:https://descubrelosrios.cl/wp-content/uploads/2026/01/Captura-de-pantalla-2026-01-20-141006.png
END:VEVENT
END:VCALENDAR