BEGIN:VCALENDAR
VERSION:2.0
PRODID:-// - ECPv6.15.14//NONSGML v1.0//EN
CALSCALE:GREGORIAN
METHOD:PUBLISH
X-ORIGINAL-URL:https://descubrelosrios.cl
X-WR-CALDESC:Eventos para 
REFRESH-INTERVAL;VALUE=DURATION:PT1H
X-Robots-Tag:noindex
X-PUBLISHED-TTL:PT1H
BEGIN:VTIMEZONE
TZID:UTC
BEGIN:STANDARD
TZOFFSETFROM:+0000
TZOFFSETTO:+0000
TZNAME:UTC
DTSTART:20250101T000000
END:STANDARD
END:VTIMEZONE
BEGIN:VEVENT
DTSTART;VALUE=DATE:20260214
DTEND;VALUE=DATE:20260216
DTSTAMP:20260420T005359
CREATED:20260119T202423Z
LAST-MODIFIED:20260129T133626Z
UID:8669-1771027200-1771199999@descubrelosrios.cl
SUMMARY:CAMPEONATO DE VOLEIBOL DUPLAS Y CLÍNICA DE VOLEIBOL “PRIMOS GRIMALT”
DESCRIPTION:El Campeonato de Voleibol en Duplas y Clínica “Primos Grimalt” reúne deporte y formación en una jornada única. El torneo convoca a equipos locales y regionales en un ambiente competitivo y festivo\, mientras la clínica\, dirigida por los destacados voleibolistas Marco y Esteban Grimalt\, entrega técnicas\, motivación y experiencias de alto nivel. Un evento que impulsa el voleibol\, inspira a nuevos talentos y fortalece la comunidad deportiva.
URL:https://descubrelosrios.cl/event/campeonato-de-voleibol-duplas-y-clinica-de-voleibol-primos-grimalt/
LOCATION:Estadio parque municipal\, Pedro Montt 465\, Valdivia\, Chile
CATEGORIES:Evento Deportivo
ATTACH;FMTTYPE=image/png:https://descubrelosrios.cl/wp-content/uploads/2026/01/Captura-de-pantalla-2026-01-29-103535.png
END:VEVENT
END:VCALENDAR