BEGIN:VCALENDAR
VERSION:2.0
PRODID:-// - ECPv6.15.14//NONSGML v1.0//EN
CALSCALE:GREGORIAN
METHOD:PUBLISH
X-ORIGINAL-URL:https://descubrelosrios.cl
X-WR-CALDESC:Eventos para 
REFRESH-INTERVAL;VALUE=DURATION:PT1H
X-Robots-Tag:noindex
X-PUBLISHED-TTL:PT1H
BEGIN:VTIMEZONE
TZID:UTC
BEGIN:STANDARD
TZOFFSETFROM:+0000
TZOFFSETTO:+0000
TZNAME:UTC
DTSTART:20250101T000000
END:STANDARD
END:VTIMEZONE
BEGIN:VEVENT
DTSTART;VALUE=DATE:20261129
DTEND;VALUE=DATE:20261130
DTSTAMP:20260420T064012
CREATED:20260209T161522Z
LAST-MODIFIED:20260209T161522Z
UID:9153-1795910400-1795996799@descubrelosrios.cl
SUMMARY:IRONMAN VALDIVIA (primera edición) y IRONMAN 70.3 Valdivia (tercera edición)
DESCRIPTION:El Ironman 70.3\, o «half Ironman» en su tercera versión \, es parte de una de las fechas clasificatorias del campeonato mundial que se celebran en distintas partes del mundo. Es un triatlón de media distancia que suma 113Km (70.3 millas)\, compuesto por 1.9 km de natación \, 90 Km de ciclismo y 21.1 de carrera a pie y que  atrae a atletas que buscan resistencia y disciplina. \nTambién este 2026\, Valdivia también será sede del primer IRONMAN de distancia completa (3.8 km natación / 180 km bici / 42.2 km run)\, que se realizará el mismo día y en el mismo lugar que la 70.3
URL:https://descubrelosrios.cl/event/ironman-valdivia-primera-edicion-y-ironman-70-3-valdivia-tercera-edicion/
LOCATION:Parque Saval y Helipuerto Costanera\, Valdivia\, Valdivia\, Chile
ATTACH;FMTTYPE=image/png:https://descubrelosrios.cl/wp-content/uploads/2026/02/Sin-titulo-5-x-3-cm-44.png
END:VEVENT
END:VCALENDAR