BEGIN:VCALENDAR
VERSION:2.0
PRODID:-// - ECPv6.15.14//NONSGML v1.0//EN
CALSCALE:GREGORIAN
METHOD:PUBLISH
X-ORIGINAL-URL:https://descubrelosrios.cl
X-WR-CALDESC:Eventos para 
REFRESH-INTERVAL;VALUE=DURATION:PT1H
X-Robots-Tag:noindex
X-PUBLISHED-TTL:PT1H
BEGIN:VTIMEZONE
TZID:UTC
BEGIN:STANDARD
TZOFFSETFROM:+0000
TZOFFSETTO:+0000
TZNAME:UTC
DTSTART:20250101T000000
END:STANDARD
END:VTIMEZONE
BEGIN:VEVENT
DTSTART;VALUE=DATE:20260530
DTEND;VALUE=DATE:20260531
DTSTAMP:20260419T200551
CREATED:20260223T191933Z
LAST-MODIFIED:20260223T191933Z
UID:9279-1780099200-1780185599@descubrelosrios.cl
SUMMARY:XIV EL CANTO DEL CHUCAO
DESCRIPTION:El XIV Festival El Canto del Chucao es un evento musical y cultural cuya tematica está relacionada al bosque\, su flora y fauna. \nCombina música en vivo\, naturaleza y turismo sustentable\, ofreciendo conciertos en un entorno de bosque nativo junto a actividades al aire libre y gastronomía local. 🌿🎶
URL:https://descubrelosrios.cl/event/xiv-el-canto-del-chucao/
LOCATION:Teatro educativo de las artes de Panguipulli\, Roberto Bravo 250\, Panguipulli\, Chile
ATTACH;FMTTYPE=image/png:https://descubrelosrios.cl/wp-content/uploads/2026/02/Sin-titulo-5-x-3-cm-60.png
END:VEVENT
END:VCALENDAR