BEGIN:VCALENDAR
VERSION:2.0
PRODID:-// - ECPv6.15.14//NONSGML v1.0//EN
CALSCALE:GREGORIAN
METHOD:PUBLISH
X-ORIGINAL-URL:https://descubrelosrios.cl
X-WR-CALDESC:Eventos para 
REFRESH-INTERVAL;VALUE=DURATION:PT1H
X-Robots-Tag:noindex
X-PUBLISHED-TTL:PT1H
BEGIN:VTIMEZONE
TZID:UTC
BEGIN:STANDARD
TZOFFSETFROM:+0000
TZOFFSETTO:+0000
TZNAME:UTC
DTSTART:20250101T000000
END:STANDARD
END:VTIMEZONE
BEGIN:VEVENT
DTSTART;VALUE=DATE:20260403
DTEND;VALUE=DATE:20260406
DTSTAMP:20260419T182458
CREATED:20260330T203559Z
LAST-MODIFIED:20260330T203605Z
UID:9414-1775174400-1775433599@descubrelosrios.cl
SUMMARY:4ta feria costumbrista de la murta en Mariquina
DESCRIPTION:La 4ª Feria Costumbrista de la Murta en Mariquina se consolida como un espacio de encuentro cultural y gastronómico que celebra las tradiciones locales y el valor de la murta\, fruto típico del sur de Chile. La feria reúne a productores\, artesanos y familias en torno a la música en vivo\, la cocina tradicional\, juegos populares y muestras de artesanía\, fortaleciendo la identidad de la comuna y promoviendo el turismo rural. \nEste evento forma parte de la Ruta de las Tradiciones\, iniciativa que busca rescatar y visibilizar las costumbres de la región\, ofreciendo a visitantes y residentes una experiencia auténtica de esparcimiento y cultura.
URL:https://descubrelosrios.cl/event/4ta-feria-costumbrista-de-la-murta-en-mariquina/
LOCATION:APR Alepue  Eupuco\, Recinto comité de agua potable\, Mariquina\, Chile
CATEGORIES:Feria
ATTACH;FMTTYPE=image/png:https://descubrelosrios.cl/wp-content/uploads/2026/03/Captura-de-pantalla-2026-03-30-172449-1.png
END:VEVENT
END:VCALENDAR