BEGIN:VCALENDAR
VERSION:2.0
PRODID:-// - ECPv6.15.14//NONSGML v1.0//EN
CALSCALE:GREGORIAN
METHOD:PUBLISH
X-ORIGINAL-URL:https://descubrelosrios.cl
X-WR-CALDESC:Eventos para 
REFRESH-INTERVAL;VALUE=DURATION:PT1H
X-Robots-Tag:noindex
X-PUBLISHED-TTL:PT1H
BEGIN:VTIMEZONE
TZID:UTC
BEGIN:STANDARD
TZOFFSETFROM:+0000
TZOFFSETTO:+0000
TZNAME:UTC
DTSTART:20250101T000000
END:STANDARD
END:VTIMEZONE
BEGIN:VEVENT
DTSTART;VALUE=DATE:20260318
DTEND;VALUE=DATE:20260322
DTSTAMP:20260419T200900
CREATED:20260123T160720Z
LAST-MODIFIED:20260123T160726Z
UID:8885-1773792000-1774137599@descubrelosrios.cl
SUMMARY:Congreso IEEE
DESCRIPTION:El Congreso IEEE 2026 congrega a especialistas internacionales en ingeniería y tecnología\, consolidándose como un espacio de referencia para la difusión de avances científicos y la generación de alianzas estratégicas. Las ponencias y talleres abordaron temáticas de alto impacto\, desde inteligencia artificial y sistemas eléctricos hasta aplicaciones biomédicas\, destacando el carácter interdisciplinario del encuentro. \nEl evento reafirma el liderazgo del IEEE en la promoción de la innovación y la transferencia de conocimiento hacia soluciones que fortalecen el desarrollo global.
URL:https://descubrelosrios.cl/event/congreso-ieee/
LOCATION:Salon de eventos hotel Dreams\, Carampagne 190\, Valdivia\, Chile
CATEGORIES:Congreso
ATTACH;FMTTYPE=image/png:https://descubrelosrios.cl/wp-content/uploads/2026/01/Captura-de-pantalla-2026-01-23-130618.png
END:VEVENT
END:VCALENDAR